BEGIN:VCALENDAR
VERSION:2.0
PRODID:-//Bursatra - ECPv4.5.12.3//NONSGML v1.0//EN
CALSCALE:GREGORIAN
METHOD:PUBLISH
X-WR-CALNAME:Bursatra
X-ORIGINAL-URL:https://hayat10.my/bursatra
X-WR-CALDESC:Events for Bursatra
BEGIN:VEVENT
DTSTART;VALUE=DATE:20151209
DTEND;VALUE=DATE:20151210
DTSTAMP:20260421T114132
CREATED:20141220T072714Z
LAST-MODIFIED:20151116T181956Z
UID:99-1449619200-1449791999@hayat10.my
SUMMARY:Write Press Releases That Get Published
DESCRIPTION:“News is subjective. What you think is great news of your company that will attract media interest may not be news at all to editors. Therefore\, if you want the editors to publish your press release\, and to publish it prominently\, write it to the taste and interest of editors. Don’t write it just based on what you think is interesting and newsworthy. The secret to writing press release is knowing exactly what editors want…knowing exactly what makes news to the news media.” - SW Chan \n[fruitful_btn state="disabled"]HRDF SBL- claimable and carries 16 CEP points[/fruitful_btn]\n[fruitful_alert type="alert-info"]NEW 2-DAY COURSE!! (inclusive of seminar notes\, refreshments and lunches)[/fruitful_alert] \nFee is inclusive of 6% GST.\nSW CHAN\, a former senior journalist\, is a media strategy advisor and a specialist trainer in media relations\, media handling and media crisis management skills. \nHe has 18 years of experience in journalism and 15 years in his current field – media advisory and media training. He has provided expert media guidance on advisory basis to major companies and media-trained corporate executives (who included CEOs\, MDs\, board directors and corporate communications professionals) and government officers. \nBesides running public and in-house media-training programmes for diverse companies and organisations\,\nChan conducts media skills training regularly for Malaysian and foreign diplomats\, in diplomatic courses organised by the Institute of Diplomacy & Foreign Relations (IDFR) of the  Ministry of Foreign Affairs. \nHe has also been an appointed trainer (consultant basis) on media crisis management to oil and gas company Shell for 12 years previously. \nPrior to becoming a Media Strategy Advisor/Trainer\, Chan was a journalist in both newspaper and TV journalism with three leading news organisations. \nHe was a Reporter\, News Correspondent\, Senior Writer and Sub-Editor in The Star\, Senior Editor in The Sun\, and Managing Editor\, News\, in ntv7. He was a pioneer editor in The Sun and ntv7. \nChan is still very much in touch with   latest developments in journalism and   the overall news media industry. The media skills he presents in his training programmes are applicable in dealing with the local and foreign as well as the international news media not only in Malaysia but anywhere in the world. \n\n\n
URL:https://hayat10.my/bursatra/event/write-press-releases-that-get-published
LOCATION:Petaling Jaya\, Malaysia
CATEGORIES:Personal Management and Development Skill
ORGANIZER;CN="Bursatra":MAILTO:mailmarshal@bursatra.com.my
END:VEVENT
END:VCALENDAR