BEGIN:VCALENDAR
VERSION:2.0
PRODID:-//Bursatra - ECPv4.5.12.3//NONSGML v1.0//EN
CALSCALE:GREGORIAN
METHOD:PUBLISH
X-WR-CALNAME:Bursatra
X-ORIGINAL-URL:https://hayat10.my/bursatra
X-WR-CALDESC:Events for Bursatra
BEGIN:VEVENT
DTSTART;TZID=Asia/Kuala_Lumpur:20151127T090000
DTEND;TZID=Asia/Kuala_Lumpur:20151127T130000
DTSTAMP:20260423T063505
CREATED:20141225T122436Z
LAST-MODIFIED:20151021T172154Z
UID:202-1448614800-1448629200@hayat10.my
SUMMARY:Utilising Auditors to Mitigate Risks
DESCRIPTION:Boards through the audit committees liaise substantially with the external auditors. In addition\, internal auditors report to the audit committee functionally. Together\, they form two of the cornerstones of corporate governance. Much assurance can be gotten from these auditors if we know how to leverage on them. Regulators expect board to use these audit resources effectively in the discharge of their challenging obligations in relation to financial reporting\, risks\, controls and governance. \n4 CEP Hours\nFee is inclusive of 6% GST.\n\n
URL:https://hayat10.my/bursatra/event/utilising-auditors-to-mitigate-risks
CATEGORIES:Corporate Governance Management and Best Practices
ORGANIZER;CN="Bursatra":MAILTO:mailmarshal@bursatra.com.my
END:VEVENT
END:VCALENDAR