BEGIN:VCALENDAR
VERSION:2.0
PRODID:-//Bursatra - ECPv4.5.12.3//NONSGML v1.0//EN
CALSCALE:GREGORIAN
METHOD:PUBLISH
X-WR-CALNAME:Bursatra
X-ORIGINAL-URL:https://hayat10.my/bursatra
X-WR-CALDESC:Events for Bursatra
BEGIN:VEVENT
DTSTART;TZID=Asia/Kuala_Lumpur:20151209T090000
DTEND;TZID=Asia/Kuala_Lumpur:20151209T130000
DTSTAMP:20260421T131534
CREATED:20151021T172432Z
LAST-MODIFIED:20151021T172847Z
UID:1282-1449651600-1449666000@hayat10.my
SUMMARY:Utilising Auditors to Mitigate Risks
DESCRIPTION:Boards through the audit committees liaise substantially with the external auditors. In addition\, internal auditors report to the audit committee functionally. Together\, they form two of the cornerstones of corporate governance. Much assurance can be gotten from these auditors if we know how to leverage on them. Regulators expect board to use these audit resources effectively in the discharge of their challenging obligations in relation to financial reporting\, risks\, controls and governance. \n4 CEP Hours\nFee is inclusive of 6% GST.\n\n
URL:https://hayat10.my/bursatra/event/utilising-auditors-to-mitigate-risks-2
CATEGORIES:Corporate Governance Management and Best Practices
ORGANIZER;CN="Bursatra":MAILTO:mailmarshal@bursatra.com.my
END:VEVENT
END:VCALENDAR