BEGIN:VCALENDAR
VERSION:2.0
PRODID:-//Bursatra - ECPv4.5.12.3//NONSGML v1.0//EN
CALSCALE:GREGORIAN
METHOD:PUBLISH
X-WR-CALNAME:Bursatra
X-ORIGINAL-URL:https://hayat10.my/bursatra
X-WR-CALDESC:Events for Bursatra
BEGIN:VEVENT
DTSTART;TZID=Asia/Kuala_Lumpur:20160509T090000
DTEND;TZID=Asia/Kuala_Lumpur:20160509T130000
DTSTAMP:20260421T185542
CREATED:20160131T193758Z
LAST-MODIFIED:20160131T194540Z
UID:1570-1462784400-1462798800@hayat10.my
SUMMARY:Understanding The Role\, Duties And Functions Of Independent Directors In Shaping An Effective Board - Getting It Right For High Performance
DESCRIPTION:Independent Directors today must truly be committed to achieve the highest standards of business integrity\, ethics and professionalism across all of its core business pillars in pursuing the operating goals. The fundamental approach adopted is to ensure that the right executive leadership\, strategy and internal controls for risk management are well in place. Nonetheless\, the Board must undertake continuous review on its governance model to ensure that its relevance\, effectiveness and ability to meet the challenges of achieving a sustainable future and to stay ahead of its competition. \n4 CEP Hours\nFee is inclusive of 6% GST.\n\n\nPresenter's Profile\n\n\nMR. BOEY TAK KONGCA (M)\, FCCA\, ACIS\, MIMM\, MMIM \nHe is an approved professional trainer since 2007 with Pembangunan Sumber Manusia Berhad (“HRDF”) and has 23 years of broad based senior management experience in internal audit\, financial management\, corporate affairs and global business development with 6 listed entities with listing in United Kingdom\, Singapore\, Malaysia\, Australia and New Zealand. \nPresently\, he holds directorship in Dutch Lady Milk Industries Bhd\, Green Packet Berhad\, Gadang Holdings Bhd\, Censof Holdings Bhd and Ho Hup Construction Company Bhd. \nPreviously\, he held directorships in IJM Land Berhad\, Sanbumi Holdings Berhad\, Omesti Berhad and Permaju Industries Berhad. \nIn the last 19 years\, he had conducted and participated in seminars and conferences organized by: \n\nMalaysian Institute Of Accountants\nThe Malaysian Institute of Chartered Secretaries & Administrators\nMalaysian Investor Relations Association Berhad\nInstitute of Internal Auditors\nMinority Shareholders Watchdog Group\nMalaysian Institute of Certified Public Accountants\nMalaysian Institute of Corporate Governance\nAssociation of Chartered Certified Accountants\n\n\n\n\n\nDownload Brochure  Understanding The Role\, Duties And Functions Of Independent Directors In Shaping An Effective Board - Getting It Right For High PerformanceFile size: 213 KB 
URL:https://hayat10.my/bursatra/event/understanding-the-role-duties-and-functions-of-independent-directors-in-shaping-an-effective-board-getting-it-right-for-high-performance-2
CATEGORIES:Corporate Governance Management and Best Practices
ORGANIZER;CN="Bursatra":MAILTO:mailmarshal@bursatra.com.my
END:VEVENT
END:VCALENDAR