BEGIN:VCALENDAR
VERSION:2.0
PRODID:-//Bursatra - ECPv4.5.12.3//NONSGML v1.0//EN
CALSCALE:GREGORIAN
METHOD:PUBLISH
X-WR-CALNAME:Bursatra
X-ORIGINAL-URL:https://hayat10.my/bursatra
X-WR-CALDESC:Events for Bursatra
BEGIN:VEVENT
DTSTART;TZID=Asia/Kuala_Lumpur:20150811T090000
DTEND;TZID=Asia/Kuala_Lumpur:20150811T130000
DTSTAMP:20260421T100703
CREATED:20150101T175111Z
LAST-MODIFIED:20150630T163356Z
UID:414-1439283600-1439298000@hayat10.my
SUMMARY:Understanding The Principles Of Integrated Reporting & Its Disclosure Framework
DESCRIPTION:Integrated reporting is encourage by the regulators and is to be market driven with compliance by 2016.This course provides the necessary guidelines on integrated reporting framework and its principles to express an opinion in the annual report. \n4 CEP Hours\n\n
URL:https://hayat10.my/bursatra/event/understanding-the-principles-of-integrated-reporting-its-disclosure-framework-3
CATEGORIES:Strategic Management and Best Practices
ORGANIZER;CN="Bursatra":MAILTO:mailmarshal@bursatra.com.my
END:VEVENT
END:VCALENDAR