BEGIN:VCALENDAR
VERSION:2.0
PRODID:-//Bursatra - ECPv4.5.12.3//NONSGML v1.0//EN
CALSCALE:GREGORIAN
METHOD:PUBLISH
X-WR-CALNAME:Bursatra
X-ORIGINAL-URL:https://hayat10.my/bursatra
X-WR-CALDESC:Events for Bursatra
BEGIN:VEVENT
DTSTART;TZID=Asia/Kuala_Lumpur:20160408T090000
DTEND;TZID=Asia/Kuala_Lumpur:20160408T170000
DTSTAMP:20260421T170619
CREATED:20151229T212412Z
LAST-MODIFIED:20151229T212412Z
UID:1420-1460106000-1460134800@hayat10.my
SUMMARY:Understanding The Essentials Of Goods and Services Tax(GST) and Its Effect On Business
DESCRIPTION:This GST training programme will allow the participants to acquire and understand the key elements of GST and its mechanism. GST is a broad based consumption tax which will replace the current sales and service tax in Malaysia. It is critical for business entrepreneurs and other operating unit heads to keep updated on the GST legislations and requirement\, analyse and understand its effects on the business operation and the transitional issues. The participant will acquire the general concept and overview of the GST\, accounting treatment and computation of GST in terms of input and output tax. GST impact on the existing accounting and IT systems would be substantial. \n8 CEP Hours\nFee is inclusive of 6% GST. \n\n
URL:https://hayat10.my/bursatra/event/understanding-the-essentials-of-goods-and-services-taxgst-and-its-effect-on-business-2
CATEGORIES:Financial Management & Reporting
ORGANIZER;CN="Bursatra":MAILTO:mailmarshal@bursatra.com.my
END:VEVENT
END:VCALENDAR