BEGIN:VCALENDAR
VERSION:2.0
PRODID:-//Bursatra - ECPv4.5.12.3//NONSGML v1.0//EN
CALSCALE:GREGORIAN
METHOD:PUBLISH
X-WR-CALNAME:Bursatra
X-ORIGINAL-URL:https://hayat10.my/bursatra
X-WR-CALDESC:Events for Bursatra
BEGIN:VEVENT
DTSTART;TZID=Asia/Kuala_Lumpur:20161202T090000
DTEND;TZID=Asia/Kuala_Lumpur:20161202T130000
DTSTAMP:20260421T183902
CREATED:20160915T194630Z
LAST-MODIFIED:20160915T194630Z
UID:2144-1480669200-1480683600@hayat10.my
SUMMARY:Understanding Risk\, Control And Governance - A Better Appreciation
DESCRIPTION:Risk\, control and governance form the backbone of an organisation. Risks comes to business in many forms like from new leadership change\, strategic decisions to change business direction to position for growth\, or react to fast changing market conditions to stay competitive. Today\, risk challenges apply to any organization from business structure\, corporate culture and beliefs to marketplace priorities. As such\, directors need to be aware of the organization’s risk profile and appetite in order to make practical business decisions. \n4 CEP Hours\nFee is exclusive of 6% GST.\n\n\nPresenter's Profile\n\n\nMR. DEVANESAN EVANSON \nDevanesan is a qualified accountant (FCCA) who is also a Chartered Member of the Malaysian Institute of Accountants. He also holds a law degree (LLB Hons) from the University of London. He is a fellow member of the Institute of Internal Auditors Malaysia (FIIA). \nDevanesan was appointed to the Board of AKPK (Agensi Kaunseling dan Pengurusan Kredit) as an independent director and chairman of the audit committee in 2017. AKPK is an agency under the auspices of Bank Negara which provides Credit Counselling and Debt Management for customers of financial institutions. \nHe is also the past President of the ACCA Advisory Committee\, the past-President of the Institute of Internal Auditors Malaysia and a past-Council Member of the Malaysia Institute of Accountants. \nDevanesan retired from Bursa Malaysia in 2010 after serving Bursa Malaysia for eighteen years (1992 – 2010). He started his career at Bursa Malaysia as Head of Internal Audit and Risk Management. He was also\, at one time\, the Chief Regulatory Officer and later\, the Chief Market Operations Officer of Bursa Malaysia. \nHe is also the past President of the ACCA Advisory Committee\, the past-President of the Institute of Internal Auditors Malaysia and a past-Council Member of the Malaysia Institute of Accountants. \nCurrently\, Devanesan is a trainer/facilitator in the areas of corporate governance\, risks\, controls\, Listing Requirements\, boardroom performance\, ethics and other governance and capital market subjects. \n\n\n\n\nDownload Brochure  Understanding Risk\, Control And Governance - A Better AppreciationFile size: 851 KB 
URL:https://hayat10.my/bursatra/event/understanding-risk-control-and-governance-a-better-appreciation-2
CATEGORIES:Corporate Governance Management and Best Practices,Understanding Risk, Control And Governance - A Better Appreciation
ORGANIZER;CN="BURSATRA":MAILTO:bursatra5@gmail.com
END:VEVENT
END:VCALENDAR