BEGIN:VCALENDAR
VERSION:2.0
PRODID:-//Bursatra - ECPv4.5.12.3//NONSGML v1.0//EN
CALSCALE:GREGORIAN
METHOD:PUBLISH
X-WR-CALNAME:Bursatra
X-ORIGINAL-URL:https://hayat10.my/bursatra
X-WR-CALDESC:Events for Bursatra
BEGIN:VEVENT
DTSTART;TZID=Asia/Kuala_Lumpur:20150505T090000
DTEND;TZID=Asia/Kuala_Lumpur:20150505T170000
DTSTAMP:20260423T070054
CREATED:20150116T151111Z
LAST-MODIFIED:20150916T065637Z
UID:503-1430816400-1430845200@hayat10.my
SUMMARY:Understanding And Awareness Of Goods And Services Tax (GST) In Malaysia
DESCRIPTION:This GST training programme will allow the participants to acquire and understand the key elements of GST and its mechanism. GST is a broad based consumption tax which will replace the current sales and service tax in Malaysia. It is critical for business entrepreneurs and other operating unit heads to keep updated on the GST legislations and requirement\, analyse and understand its effects on the business operation and the transitional issues. The participant will acquire the general concept and overview of the GST\, accounting treatment and computation of GST in terms of input and output tax. GST impact on the existing accounting and IT systems would be substantial. \n8 CEP Hours\n\n\nSpeaker's Profile\n\n \nKennent Tam Fook Cheong \n\nKENNETH TAM FOOK CHEONG\nFCCA\, ACMA\, CGMA\, MIA \nKenneth Tam is a trainer cum consultant. He has over 30 years of corporate experience in the field of financial management\, financial accounting\, tax\, business planning and budgeting. He had wide\, extensive and hand-on  experience in various industries which include oil and gas( upstream and downstream)\, manufacturing\, trading\, project management and education.   From 1980 to 2008 he held various managerial positions in a Global oil and gas group of companies\, one of the Fortune 500 companies. \nSince 2009 he became a full-time learning consultant\, he has contributed to the success of many training programmes through result-oriented and energetic training methods.  Kenneth’s training style is refreshing and energetic\, relaxing his audience. By providing a practical approach in his presentation\, alongside easy-to-use templates\, he inspires his audience to take action and produce results. He provides ways on how to transform and enhance existing skills\, mental attitudes and mindsets at all levels\, to improve individual and corporate performance. This comes as no surprise as Kenneth has been lecturing extensively in various university colleges many years ago in strategic financial management\, performance measurement and financial reporting for professional examination boards namely ACCA\, MICPA CIMA\, and ICSA & ICAA. Currently Kenneth is also a local counsellor in the Finance Module of two MBA learning programmes. As a corporate trainer cum consultant\, he has experience in designing\, developing and delivering various training programme for both in-house as well as public programmes. \nKenneth Tam is a Fellow member of the Association of Certified Chartered Accountants UK (FCCA)\, Associate member of the Chartered Institute of Management Accountants UK (ACMA)\, member of the Charted Global Management Accountant (CGMA)\, a member of the Malaysian Institute of Accountants (MIA). He also obtained a certificate IV in assessment and workplace training from Australia and approved certified trainer from PSMB. \nIn additional\, Kenneth Tam is currently also an Independent Non-Executive Director of a company listed on the main market of Bursa Malaysia. \n\n\n\n\n\nDownload Brochure  Understanding And Awareness Of Goods And Services Tax (GST) In MalaysiaFile size: 101 KB 
URL:https://hayat10.my/bursatra/event/understanding-and-awareness-of-goods-and-services-tax-gst-in-malaysia-2
CATEGORIES:Financial Management & Reporting
ATTACH;FMTTYPE=image/jpeg:https://hayat10.my/bursatra/wp-content/uploads/2015/01/gst.jpg
ORGANIZER;CN="Bursatra":MAILTO:mailmarshal@bursatra.com.my
END:VEVENT
END:VCALENDAR