BEGIN:VCALENDAR
VERSION:2.0
PRODID:-//Bursatra - ECPv4.5.12.3//NONSGML v1.0//EN
CALSCALE:GREGORIAN
METHOD:PUBLISH
X-WR-CALNAME:Bursatra
X-ORIGINAL-URL:https://hayat10.my/bursatra
X-WR-CALDESC:Events for Bursatra
BEGIN:VEVENT
DTSTART;TZID=Asia/Kuala_Lumpur:20161108T090000
DTEND;TZID=Asia/Kuala_Lumpur:20161108T130000
DTSTAMP:20260418T175356
CREATED:20160914T183208Z
LAST-MODIFIED:20160914T183928Z
UID:2125-1478595600-1478610000@hayat10.my
SUMMARY:The Board's Role In Governance & Audit Committee Oversight Responsibilities – Passion Beyond Numbers
DESCRIPTION:The global landscape witnessed a major paradigm shift with the financial crisis affecting many countries with no clear direction moving forward\, thus created a highly competitive business environment. Accordingly\, companies need to go back to basics; re-energising the marketplace by improving and enhancing overall product availability\, at prices demanded by the consumers to address the fast changing consumer taste preference and the rapid movement in demand trend beside staying profitable in the long-term. This requires the Board and management to stay focus on strategy for realistic growth in building sustainable business pillars for measurable results. \n4 CEP Hours\nFee is exclusive of 6% GST.\n\n\nPresenter's Profile\n\n\nMR. BOEY TAK KONGCA (M)\, FCCA\, ACIS\, MIMM\, MMIM \nHe is an approved professional trainer since 2007 with Pembangunan Sumber Manusia Berhad (“HRDF”) and has 23 years of broad based senior management experience in internal audit\, financial management\, corporate affairs and global business development with 6 listed entities with listing in United Kingdom\, Singapore\, Malaysia\, Australia and New Zealand. \nPresently\, he holds directorship in Dutch Lady Milk Industries Bhd\, Green Packet Berhad\, Gadang Holdings Bhd\, Censof Holdings Bhd and Ho Hup Construction Company Bhd. \nPreviously\, he held directorships in IJM Land Berhad\, Sanbumi Holdings Berhad\, Omesti Berhad and Permaju Industries Berhad. \nIn the last 19 years\, he had conducted and participated in seminars and conferences organized by: \n\nMalaysian Institute Of Accountants\nThe Malaysian Institute of Chartered Secretaries & Administrators\nMalaysian Investor Relations Association Berhad\nInstitute of Internal Auditors\nMinority Shareholders Watchdog Group\nMalaysian Institute of Certified Public Accountants\nMalaysian Institute of Corporate Governance\nAssociation of Chartered Certified Accountants\n\n\n\n\n\nDownload Brochure  The Board's Role In Governance & Audit Committee Oversight Responsibilities – Passion Beyond NumbersFile size: 486 KB 
URL:https://hayat10.my/bursatra/event/the-boards-role-in-governance-audit-committee-oversight-responsibilities-passion-beyond-numbers
CATEGORIES:Corporate Governance Management and Best Practices,The Board's Role In Governance & Audit Committee Oversight Responsibilities – Passion Beyond Numbers
ORGANIZER;CN="BURSATRA":MAILTO:bursatra5@gmail.com
END:VEVENT
END:VCALENDAR