BEGIN:VCALENDAR
VERSION:2.0
PRODID:-//Bursatra - ECPv4.5.12.3//NONSGML v1.0//EN
CALSCALE:GREGORIAN
METHOD:PUBLISH
X-WR-CALNAME:Bursatra
X-ORIGINAL-URL:https://hayat10.my/bursatra
X-WR-CALDESC:Events for Bursatra
BEGIN:VEVENT
DTSTART;TZID=Asia/Kuala_Lumpur:20180403T090000
DTEND;TZID=Asia/Kuala_Lumpur:20180403T130000
DTSTAMP:20260421T163000
CREATED:20180313T220003Z
LAST-MODIFIED:20180101T110050Z
UID:3595-1522746000-1522760400@hayat10.my
SUMMARY:Sustainability Report – Setting the Agenda for Value Creation
DESCRIPTION:\nThe increasing paradigm shift in market competition\, propel companies to rethink and realign their strategies to stay relevant\, drives business entities to a new level of competitiveness. Accordingly\, organizations are managing the business sustainability transformation with benchmarking against industry icons to reshape business fundamentals to drive growth; re-energizing talent pool and strengthening finance strategy\, in order for the Board and management to stay focus on strategy execution for realistic growth in building sustainable business pillars for measurable results in the management lenses. \n4 CEP Hours\nFee is inclusive of 6% GST.\n\n\nPresenter's Profile\n\n\nMR. BOEY TAK KONGCA (M)\, FCCA\, ACIS\, MIMM\, MMIM \nHe is an approved professional trainer since 2007 with Pembangunan Sumber Manusia Berhad (“HRDF”) and has 23 years of broad based senior management experience in internal audit\, financial management\, corporate affairs and global business development with 6 listed entities with listing in United Kingdom\, Singapore\, Malaysia\, Australia and New Zealand. \nPresently\, he holds directorship in Dutch Lady Milk Industries Bhd\, Green Packet Berhad\, Gadang Holdings Bhd\, Censof Holdings Bhd and Ho Hup Construction Company Bhd. \nPreviously\, he held directorships in IJM Land Berhad\, Sanbumi Holdings Berhad\, Omesti Berhad and Permaju Industries Berhad. \nIn the last 19 years\, he had conducted and participated in seminars and conferences organized by: \n\nMalaysian Institute Of Accountants\nThe Malaysian Institute of Chartered Secretaries & Administrators\nMalaysian Investor Relations Association Berhad\nInstitute of Internal Auditors\nMinority Shareholders Watchdog Group\nMalaysian Institute of Certified Public Accountants\nMalaysian Institute of Corporate Governance\nAssociation of Chartered Certified Accountants\n\n\n\n\n\n \nRecurring Date 2018: 03 May | 08 June.\nDownload Brochure  Sustainability Report – Setting the Agenda for Value CreationFile size: 183 KB 
URL:https://hayat10.my/bursatra/event/sustainability-report-setting-the-agenda-for-value-creation-2
LOCATION:Kuala Lumpur\, Malaysia
CATEGORIES:Corporate Governance Management and Best Practices,Sustainability Report – Setting the Agenda for Value Creation
ORGANIZER;CN="BURSATRA":MAILTO:bursatra5@gmail.com
END:VEVENT
END:VCALENDAR