BEGIN:VCALENDAR
VERSION:2.0
PRODID:-//Bursatra - ECPv4.5.12.3//NONSGML v1.0//EN
CALSCALE:GREGORIAN
METHOD:PUBLISH
X-WR-CALNAME:Bursatra
X-ORIGINAL-URL:https://hayat10.my/bursatra
X-WR-CALDESC:Events for Bursatra
BEGIN:VEVENT
DTSTART;TZID=Asia/Kuala_Lumpur:20171121T090000
DTEND;TZID=Asia/Kuala_Lumpur:20171121T130000
DTSTAMP:20260421T141441
CREATED:20170930T220010Z
LAST-MODIFIED:20170518T170921Z
UID:2984-1511254800-1511269200@hayat10.my
SUMMARY:Sustainability Report And Management Discussion & Analysis - What A Director Needs To Know
DESCRIPTION: \nThe increasing paradigm shift in the way business models are realigned to stay relevant due to fast changing regulatory requirements on strong governance of business best practices and higher environmental protection standards besides the need for community contributions in nation building\, drives business entities to a new level of competitiveness. Accordingly\, organizations are managing the business sustainability transformation with benchmarking against industry icons to reshape business fundamentals in driving growth; re-energizing talent pool and strengthening finance strategy\, in order for the Board and management to stay focus on strategy execution for realistic growth in building a long-term sustainable business pillars for measurable results. To strengthen the overall disclosure standards\, MD&A is also now mandatory in the Annual Report to furnish shareholders’ the operational and financial review perspectives in the management lenses. \n4 CEP Hours\nFee is inclusive of 6% GST.\n\n\nPresenter's Profile\n\n\nMR. BOEY TAK KONGCA (M)\, FCCA\, ACIS\, MIMM\, MMIM \nHe is an approved professional trainer since 2007 with Pembangunan Sumber Manusia Berhad (“HRDF”) and has 23 years of broad based senior management experience in internal audit\, financial management\, corporate affairs and global business development with 6 listed entities with listing in United Kingdom\, Singapore\, Malaysia\, Australia and New Zealand. \nPresently\, he holds directorship in Dutch Lady Milk Industries Bhd\, Green Packet Berhad\, Gadang Holdings Bhd\, Censof Holdings Bhd and Ho Hup Construction Company Bhd. \nPreviously\, he held directorships in IJM Land Berhad\, Sanbumi Holdings Berhad\, Omesti Berhad and Permaju Industries Berhad. \nIn the last 19 years\, he had conducted and participated in seminars and conferences organized by: \n\nMalaysian Institute Of Accountants\nThe Malaysian Institute of Chartered Secretaries & Administrators\nMalaysian Investor Relations Association Berhad\nInstitute of Internal Auditors\nMinority Shareholders Watchdog Group\nMalaysian Institute of Certified Public Accountants\nMalaysian Institute of Corporate Governance\nAssociation of Chartered Certified Accountants\n\n\n\n\n\nDownload Brochure  Sustainability Report And Management Discussion & Analysis - What A Director Needs To KnowFile size: 587 KB 
URL:https://hayat10.my/bursatra/event/sustainability-report-and-management-discussion-analysis-what-a-director-needs-to-know-3
LOCATION:Kuala Lumpur\, Malaysia
CATEGORIES:Corporate Governance Management and Best Practices,Sustainability Report And Management Discussion & Analysis - What A Director Needs To Know
ORGANIZER;CN="BURSATRA":MAILTO:bursatra5@gmail.com
END:VEVENT
END:VCALENDAR