BEGIN:VCALENDAR
VERSION:2.0
PRODID:-//Bursatra - ECPv4.5.12.3//NONSGML v1.0//EN
CALSCALE:GREGORIAN
METHOD:PUBLISH
X-WR-CALNAME:Bursatra
X-ORIGINAL-URL:https://hayat10.my/bursatra
X-WR-CALDESC:Events for Bursatra
BEGIN:VEVENT
DTSTART;TZID=Asia/Kuala_Lumpur:20151022T090000
DTEND;TZID=Asia/Kuala_Lumpur:20151022T130000
DTSTAMP:20260421T123534
CREATED:20150621T071604Z
LAST-MODIFIED:20150621T071604Z
UID:1132-1445504400-1445518800@hayat10.my
SUMMARY:Shifting The Gears: Driving Companies Towards The Long-Term Thinking Mode
DESCRIPTION:Most CEOs have aspirational long-term goals. They all want to make their companies better and stronger over the long term. Yet when it comes to priorities and plans of action\, few have headlights that can shine further than two or three years. So while every CEO talks about managing for the long term\, the reality is that the crush of immediate concerns and the uncertainty of the future lead them to focus on the short term. This tension between long-term intention and short-term action is one of the great challenges of modern management. This course tries to unravel the causes underlying this risky imbalance and the thinking and actions that could be taken to gain the benefits of the long-term perspectives. \n4 CEP Hours\nFee is inclusive of 6% GST.\n\n
URL:https://hayat10.my/bursatra/event/shifting-the-gears-driving-companies-towards-the-long-term-thinking-mode-3
CATEGORIES:Effective Operational and Risk Management
ORGANIZER;CN="Bursatra":MAILTO:mailmarshal@bursatra.com.my
END:VEVENT
END:VCALENDAR