BEGIN:VCALENDAR
VERSION:2.0
PRODID:-//Bursatra - ECPv4.5.12.3//NONSGML v1.0//EN
CALSCALE:GREGORIAN
METHOD:PUBLISH
X-WR-CALNAME:Bursatra
X-ORIGINAL-URL:https://hayat10.my/bursatra
X-WR-CALDESC:Events for Bursatra
BEGIN:VEVENT
DTSTART;TZID=Asia/Kuala_Lumpur:20150807T090000
DTEND;TZID=Asia/Kuala_Lumpur:20150807T130000
DTSTAMP:20260423T071711
CREATED:20150611T194646Z
LAST-MODIFIED:20150630T143313Z
UID:936-1438938000-1438952400@hayat10.my
SUMMARY:Reshaping The Board’s Expectations In Evaluating Opportunities When Executing Overseas Investments
DESCRIPTION:Overseas investments are key imperative for companies to duplicate its business models to expand on its revenue growth opportunities. This course outlines the crucial challenges in foreign investments and provides a guide on how to mitigate its risk impact moving forward. \n4 CEP Hours\n\n
URL:https://hayat10.my/bursatra/event/reshaping-the-boards-expectations-in-evaluating-opportunities-when-executing-overseas-investments-3
LOCATION:Kuala Lumpur\, Malaysia
CATEGORIES:Corporate Governance Management and Best Practices
ORGANIZER;CN="Bursatra":MAILTO:mailmarshal@bursatra.com.my
END:VEVENT
END:VCALENDAR