BEGIN:VCALENDAR
VERSION:2.0
PRODID:-//Bursatra - ECPv4.5.12.3//NONSGML v1.0//EN
CALSCALE:GREGORIAN
METHOD:PUBLISH
X-WR-CALNAME:Bursatra
X-ORIGINAL-URL:https://hayat10.my/bursatra
X-WR-CALDESC:Events for Bursatra
BEGIN:VEVENT
DTSTART;TZID=Asia/Kuala_Lumpur:20161101T090000
DTEND;TZID=Asia/Kuala_Lumpur:20161101T130000
DTSTAMP:20260421T183242
CREATED:20160905T195916Z
LAST-MODIFIED:20160905T195916Z
UID:2004-1477990800-1478005200@hayat10.my
SUMMARY:Rejuvenating the Governance Process & Framework for Sustainable Performance
DESCRIPTION:The increasing uncertainty in global business witnessed by major paradigm shift in the way conventional business models are realigned to stay relevant and profitable\, created a highly competitive business environment where strong governance framework with clear focus on strategic planning skills are essential. Accordingly\, companies need to realign and reshape business fundamentals of driving growth; re-energizing talent pool and strengthening finance strategy\, in order for the Board and management to stay focus on strategy execution for realistic growth in building a long-term sustainable business pillars for measurable results. \n4 CEP Hours\nFee is exclusive of 6% GST.\n\n\nPresenter's Profile\n\n\nMR. BOEY TAK KONGCA (M)\, FCCA\, ACIS\, MIMM\, MMIM \nHe is an approved professional trainer since 2007 with Pembangunan Sumber Manusia Berhad (“HRDF”) and has 23 years of broad based senior management experience in internal audit\, financial management\, corporate affairs and global business development with 6 listed entities with listing in United Kingdom\, Singapore\, Malaysia\, Australia and New Zealand. \nPresently\, he holds directorship in Dutch Lady Milk Industries Bhd\, Green Packet Berhad\, Gadang Holdings Bhd\, Censof Holdings Bhd and Ho Hup Construction Company Bhd. \nPreviously\, he held directorships in IJM Land Berhad\, Sanbumi Holdings Berhad\, Omesti Berhad and Permaju Industries Berhad. \nIn the last 19 years\, he had conducted and participated in seminars and conferences organized by: \n\nMalaysian Institute Of Accountants\nThe Malaysian Institute of Chartered Secretaries & Administrators\nMalaysian Investor Relations Association Berhad\nInstitute of Internal Auditors\nMinority Shareholders Watchdog Group\nMalaysian Institute of Certified Public Accountants\nMalaysian Institute of Corporate Governance\nAssociation of Chartered Certified Accountants\n\n\n\n\n\nDownload Brochure  Rejuvenating the Governance Process & Framework for Sustainable PerformanceFile size: 788 KB 
URL:https://hayat10.my/bursatra/event/rejuvenating-the-governance-process-framework-for-sustainable-performance-nov
CATEGORIES:Corporate Governance Management and Best Practices,Rejuvenating the Governance Process & Framework for Sustainable Performance
ORGANIZER;CN="BURSATRA":MAILTO:bursatra5@gmail.com
END:VEVENT
END:VCALENDAR