BEGIN:VCALENDAR
VERSION:2.0
PRODID:-//Bursatra - ECPv4.5.12.3//NONSGML v1.0//EN
CALSCALE:GREGORIAN
METHOD:PUBLISH
X-WR-CALNAME:Bursatra
X-ORIGINAL-URL:https://hayat10.my/bursatra
X-WR-CALDESC:Events for Bursatra
BEGIN:VEVENT
DTSTART;TZID=Asia/Kuala_Lumpur:20180404T090000
DTEND;TZID=Asia/Kuala_Lumpur:20180404T130000
DTSTAMP:20260421T163926
CREATED:20180314T220012Z
LAST-MODIFIED:20171230T200605Z
UID:3568-1522832400-1522846800@hayat10.my
SUMMARY:MCCG Compliance Expectations– Accountability\, Transparency\, Better Reporting Integrity & Sustainability
DESCRIPTION:Today’s fast changing business landscape demand a high level of work commitment by all Directors to provide the skills and perspectives important to achieve the company’s long-term strategic vision. Board need to regularly assess and act on the emerging economic conditions to identify performance gaps and to correctly allocate resources to address the market challenges. Directors today must benchmark against the highest standards of business integrity\, ethics and professionalism across all of its business pillars in decision-making and the execution of its action plan activities. Based on the various scandalous activities committed by controlling shareholders\, directors are required to conduct themselves professionally and to continuously review its governance and compliance framework to ensure its relevance\, effectiveness and ability to deliver sustainable results. \n4 CEP Hours\nFee is inclusive of 6% GST.\n\n\nPresenter's Profile\n\n\nMR. BOEY TAK KONGCA (M)\, FCCA\, ACIS\, MIMM\, MMIM \nHe is an approved professional trainer since 2007 with Pembangunan Sumber Manusia Berhad (“HRDF”) and has 23 years of broad based senior management experience in internal audit\, financial management\, corporate affairs and global business development with 6 listed entities with listing in United Kingdom\, Singapore\, Malaysia\, Australia and New Zealand. \nPresently\, he holds directorship in Dutch Lady Milk Industries Bhd\, Green Packet Berhad\, Gadang Holdings Bhd\, Censof Holdings Bhd and Ho Hup Construction Company Bhd. \nPreviously\, he held directorships in IJM Land Berhad\, Sanbumi Holdings Berhad\, Omesti Berhad and Permaju Industries Berhad. \nIn the last 19 years\, he had conducted and participated in seminars and conferences organized by: \n\nMalaysian Institute Of Accountants\nThe Malaysian Institute of Chartered Secretaries & Administrators\nMalaysian Investor Relations Association Berhad\nInstitute of Internal Auditors\nMinority Shareholders Watchdog Group\nMalaysian Institute of Certified Public Accountants\nMalaysian Institute of Corporate Governance\nAssociation of Chartered Certified Accountants\n\n\n\n\n\n \nRecurring Date 2018: 04 May | 11 June.\nDownload Brochure  MCCG Compliance Expectations– Accountability\, Transparency\, Better Reporting Integrity & SustainabilityFile size: 213 KB 
URL:https://hayat10.my/bursatra/event/mccg-compliance-expectations-accountability-transparency-better-reporting-integrity-sustainability-2
LOCATION:Kuala Lumpur\, Malaysia
CATEGORIES:Corporate Governance Management and Best Practices,MCCG Compliance Expectations– Accountability, Transparency, Better Reporting Integrity & Sustainability
ORGANIZER;CN="BURSATRA":MAILTO:bursatra5@gmail.com
END:VEVENT
END:VCALENDAR