BEGIN:VCALENDAR
VERSION:2.0
PRODID:-//Bursatra - ECPv4.5.12.3//NONSGML v1.0//EN
CALSCALE:GREGORIAN
METHOD:PUBLISH
X-WR-CALNAME:Bursatra
X-ORIGINAL-URL:https://hayat10.my/bursatra
X-WR-CALDESC:Events for Bursatra
BEGIN:VEVENT
DTSTART;TZID=Asia/Kuala_Lumpur:20151203T090000
DTEND;TZID=Asia/Kuala_Lumpur:20151203T130000
DTSTAMP:20260423T072234
CREATED:20150611T192206Z
LAST-MODIFIED:20151023T165154Z
UID:929-1449133200-1449147600@hayat10.my
SUMMARY:Maximizing Board Effectiveness Through A Strong Board Risk Oversight Role Beyond Financial Performance
DESCRIPTION:The global challenges are impacting companies all over the world with tight margins and changing regulations that make cost of doing business expensive. In order to continue with the Board’s sustainability agenda\, companies need to innovate and reposition its business pillars to growth industries. This course allows participants to understand how to undertake business transformation process effectively. \n4 CEP Hours\nFee is inclusive of 6% GST.\n\n
URL:https://hayat10.my/bursatra/event/maximizing-board-effectiveness-through-a-strong-board-risk-oversight-role-beyond-financial-performance-3
LOCATION:Kuala Lumpur\, Malaysia
CATEGORIES:Corporate Governance Management and Best Practices
ORGANIZER;CN="Bursatra":MAILTO:mailmarshal@bursatra.com.my
END:VEVENT
END:VCALENDAR