BEGIN:VCALENDAR
VERSION:2.0
PRODID:-//Bursatra - ECPv4.5.12.3//NONSGML v1.0//EN
CALSCALE:GREGORIAN
METHOD:PUBLISH
X-WR-CALNAME:Bursatra
X-ORIGINAL-URL:https://hayat10.my/bursatra
X-WR-CALDESC:Events for Bursatra
BEGIN:VEVENT
DTSTART;TZID=Asia/Kuala_Lumpur:20170607T090000
DTEND;TZID=Asia/Kuala_Lumpur:20170607T130000
DTSTAMP:20260421T225518
CREATED:20170115T070056Z
LAST-MODIFIED:20170529T144242Z
UID:2750-1496826000-1496840400@hayat10.my
SUMMARY:MANAGEMENT DISCUSSION AND ANALYSIS: Value-Added Investment Tool?
DESCRIPTION:Management Discussion and Analysis or MD&A is a form of narrative reporting mandatory under Bursa Malaysia Listing Requirements for annual reports of public listed companies for FYE on or after 31 December 2016. MD&A presents an overview of the Group’s business and operations\, objectives and strategies\, discusses and analyses its financial results and condition\, reviews its operating activities\, identifies any anticipated or known risks and presents forward-looking statements.  \nMD&A is a core and powerful communication tool used to explain the figures and financials to make them more easily understood and more meaningful. It helps to describe how the company has created value and how it plans to continue to do so. Its effectiveness obviously is dependent on how well it is written and presented. \n4 CEP Hours\nFee is inclusive of 6% GST.\n\n\nSpeaker's Profile\n\n \nChong Chee Fern \n\nCHONG CHEE FERN\nB. Econs. (Accounting)\, University Of Malaya\nMr. Chong\, a Chartered Accountant registered with the Malaysian Institute of Accountants\, holds a B. Econs. (Accounting) (2nd Class Upper Hons.) Degree and a Postgraduate Dip. In Accounting\, both from University of Malaya. He is also a holder of the Certified Financial Planner (CFP) qualification and has vast experience in banking and capital market with many years of exposures in internal audit\, corporate planning\, investor relations\, risk management\, monitoring of public listed companies and corporate governance. He was the former General Manager\, Corporate Monitoring in Minority Shareholder Watchdog Group (MSWG) where his job responsibilities entailed mainly supervising the monitoring of selected public listed companies\, complaints and MSWG’s newsletters and the annual surveys for the Malaysian Corporate Governance Index. \nMr. Chong had delivered several talks and participated in speaking engagements\, seminars and forums encompassing corporate governance\, internal audit\, capital market issues\, audit expectation gap and how corporate reporting could meet investors’ needs. He is also an HRDF certified trainer. He had many years of experience in Bank Negara Malaysia\, involved in supervising financial institutions and preparation of the Bank’s annual report and budget. His attachment with a large international shipping corporation had also enriched his experience in the areas of finance\, corporate planning and investor relations. He had worked with international consultants in the business transformation programme and also for many years was responsible for drafting the Chairman’s Statement and Managing Director’s Report for the corporation’s Annual Report. He had served in various positions in an investment bank with experience mainly in internal auditing and risk management. \n\n\n\n\n\nDownload Brochure  MANAGEMENT DISCUSSION AND ANALYSIS: Value-Added Investment Tool?File size: 250 KB 
URL:https://hayat10.my/bursatra/event/management-discussion-and-analysis-value-added-investment-tool
LOCATION:Kuala Lumpur\, Malaysia
CATEGORIES:Corporate Governance Management and Best Practices,MANAGEMENT DISCUSSION AND ANALYSIS: Value-Added Investment Tool?
ORGANIZER;CN="Bursatra-Sophiah":MAILTO:sophiah@bursatra.com.my
END:VEVENT
END:VCALENDAR