BEGIN:VCALENDAR
VERSION:2.0
PRODID:-//Bursatra - ECPv4.5.12.3//NONSGML v1.0//EN
CALSCALE:GREGORIAN
METHOD:PUBLISH
X-WR-CALNAME:Bursatra
X-ORIGINAL-URL:https://hayat10.my/bursatra
X-WR-CALDESC:Events for Bursatra
BEGIN:VEVENT
DTSTART;TZID=Asia/Kuala_Lumpur:20170816T090000
DTEND;TZID=Asia/Kuala_Lumpur:20170816T130000
DTSTAMP:20260421T160443
CREATED:20170707T220041Z
LAST-MODIFIED:20170601T063631Z
UID:3041-1502874000-1502888400@hayat10.my
SUMMARY:Malaysian Case Studies On Corporate Disclosure - Lessons Learnt
DESCRIPTION: \nCorporate disclosure is the lifeblood of a vibrant capital market and Bursa Malaysia takes a serious view on the quality and timeliness of corporate disclosure. In the past\, many companies and directors have been reprimanded and imposed with fines (in the director’s personal capacity) by Bursa Malaysia. The best lessons are learnt from real-life case studies from the files of Bursa Malaysia. The case study approach will examine where the directors went wrong. Reference will also be made to the particular sections of the Listing Requirements that are relevant to the case studies. \n4 CEP Hours\nFee is inclusive of 6% GST.\n\n\nPresenter's Profile\n\n\nMR. DEVANESAN EVANSON \nDevanesan is a qualified accountant (FCCA) who is also a Chartered Member of the Malaysian Institute of Accountants. He also holds a law degree (LLB Hons) from the University of London. He is a fellow member of the Institute of Internal Auditors Malaysia (FIIA). \nDevanesan was appointed to the Board of AKPK (Agensi Kaunseling dan Pengurusan Kredit) as an independent director and chairman of the audit committee in 2017. AKPK is an agency under the auspices of Bank Negara which provides Credit Counselling and Debt Management for customers of financial institutions. \nHe is also the past President of the ACCA Advisory Committee\, the past-President of the Institute of Internal Auditors Malaysia and a past-Council Member of the Malaysia Institute of Accountants. \nDevanesan retired from Bursa Malaysia in 2010 after serving Bursa Malaysia for eighteen years (1992 – 2010). He started his career at Bursa Malaysia as Head of Internal Audit and Risk Management. He was also\, at one time\, the Chief Regulatory Officer and later\, the Chief Market Operations Officer of Bursa Malaysia. \nHe is also the past President of the ACCA Advisory Committee\, the past-President of the Institute of Internal Auditors Malaysia and a past-Council Member of the Malaysia Institute of Accountants. \nCurrently\, Devanesan is a trainer/facilitator in the areas of corporate governance\, risks\, controls\, Listing Requirements\, boardroom performance\, ethics and other governance and capital market subjects. \n\n\n\n\nDownload Brochure  Malaysian Case Studies on Corporate Disclosure – Lessons LearntFile size: 153 KB 
URL:https://hayat10.my/bursatra/event/malaysian-case-studies-on-corporate-disclosure-lessons-learnt-4
LOCATION:Kuala Lumpur\, Malaysia
CATEGORIES:Corporate Governance Management and Best Practices,Malaysian Case Studies On Corporate Disclosure - Lessons Learnt
ORGANIZER;CN="BURSATRA":MAILTO:bursatra5@gmail.com
END:VEVENT
END:VCALENDAR