BEGIN:VCALENDAR
VERSION:2.0
PRODID:-//Bursatra - ECPv4.5.12.3//NONSGML v1.0//EN
CALSCALE:GREGORIAN
METHOD:PUBLISH
X-WR-CALNAME:Bursatra
X-ORIGINAL-URL:https://hayat10.my/bursatra
X-WR-CALDESC:Events for Bursatra
BEGIN:VEVENT
DTSTART;TZID=Asia/Kuala_Lumpur:20170726T090000
DTEND;TZID=Asia/Kuala_Lumpur:20170726T130000
DTSTAMP:20260421T141314
CREATED:20170601T220027Z
LAST-MODIFIED:20170603T094647Z
UID:2615-1501059600-1501074000@hayat10.my
SUMMARY:Leadership And The Digital Disruption: A Global Assessment
DESCRIPTION:In this age of digital disruption\, leadership needs to evolve to embrace new approaches demanded by the digital economy. This is not about forgetting the traditional approaches\, but building on them. This could be called two-speed leadership. Successful leaders in the digital era prosper most with a new focus on Collaboration\, Courage and Culture. \n4 CEP Hours\nFee is inclusive of 6% GST.\n\n\nSpeaker's Profile\n\n\nMR. A. AZMI BIN ABD KHALID \nMr. A. Azmi Khalid is a consultant at Asia e University and a lecturer in the Master of Public Policy (MPP) program\, International Institute of Public Policy and Management (INPUMA)\, University of Malaya. He started his career at the University of Malaya in 1977 as a tutor\, after obtaining the BA (Honours\, Second Class Upper) majoring in International Relations. Later he became a lecturer and senior lecturer. He was trained in Economic History (MA Honours) in the Faculty of Economics\, University of Sydney (1978-80). He was a Visiting Lecturer at Universiti Brunei Darussalam. In 1984-86\, he was at the London School of Economics. He was in the corporate sector\, holding various senior management positions\, from 1995. He is currently advising an energy-based company. \nCurrently\, he is registering for the PhD degree at the University of Malaya. His main areas of interest are: Global Depressions and Recessions\, State/Government Intervention in The Economy\, Strategic Management and Leadership\, Business History and Business Failure Analysis\, Political Risk Analysis\, Emerging Markets and Business and Digital Disruption. \n\n\n\n\n\n \nRecurring Date 2017: 19 September | 16 November.\nDownload Brochure  Leadership and the Digital Disruption: A Global AssessmentFile size: 166 KB 
URL:https://hayat10.my/bursatra/event/leadership-and-the-digital-disruption-a-global-assessment-2
LOCATION:Kuala Lumpur\, Malaysia
CATEGORIES:Effective Operational and Risk Management,Leadership And The Digital Disruption: A Global Assessment
ORGANIZER;CN="Bursatra-Sophiah":MAILTO:sophiah@bursatra.com.my
END:VEVENT
END:VCALENDAR