BEGIN:VCALENDAR
VERSION:2.0
PRODID:-//Bursatra - ECPv4.5.12.3//NONSGML v1.0//EN
CALSCALE:GREGORIAN
METHOD:PUBLISH
X-WR-CALNAME:Bursatra
X-ORIGINAL-URL:https://hayat10.my/bursatra
X-WR-CALDESC:Events for Bursatra
BEGIN:VEVENT
DTSTART;TZID=Asia/Kuala_Lumpur:20151207T090000
DTEND;TZID=Asia/Kuala_Lumpur:20151207T130000
DTSTAMP:20260421T045835
CREATED:20150613T134813Z
LAST-MODIFIED:20151023T140430Z
UID:1043-1449478800-1449493200@hayat10.my
SUMMARY:Knowing How To Detect\, Prevent & Report Financial Irregularities & Scandalous Activities
DESCRIPTION:Financial malpractices and cyber fraud is on the rise and companies are now seek ways to detect\, prevent and report the irregularities. This course highlights the type of crimes\, motivation for dishonesty and the damages to company’s reputation that brings significant losses.\n[fruitful_btn state="disabled"]4 CEP Hours[/fruitful_btn] \nFee is inclusive of 6% GST.\n\n
URL:https://hayat10.my/bursatra/event/knowing-how-to-detect-prevent-report-financial-irregularities-scandalous-activities-3
CATEGORIES:Strategic Management and Best Practices
ORGANIZER;CN="Bursatra":MAILTO:mailmarshal@bursatra.com.my
END:VEVENT
END:VCALENDAR