BEGIN:VCALENDAR
VERSION:2.0
PRODID:-//Bursatra - ECPv4.5.12.3//NONSGML v1.0//EN
CALSCALE:GREGORIAN
METHOD:PUBLISH
X-WR-CALNAME:Bursatra
X-ORIGINAL-URL:https://hayat10.my/bursatra
X-WR-CALDESC:Events for Bursatra
BEGIN:VEVENT
DTSTART;TZID=Asia/Kuala_Lumpur:20171220T090000
DTEND;TZID=Asia/Kuala_Lumpur:20171220T130000
DTSTAMP:20260418T173425
CREATED:20171208T040631Z
LAST-MODIFIED:20171208T145016Z
UID:3408-1513760400-1513774800@hayat10.my
SUMMARY:Key Highlights Of The Latest Amendments To The Listing Requirements (29/11/2017)
DESCRIPTION:Bursa Malaysia Securities Berhad (“Bursa Malaysia”) has on the 29th. of November 2017 announced various amendments to the Listing Requirements. The amendments are relate to the: \n\nCompanies Act 2016\,\nCorporate governance requirements\,\nPost-listing disclosure obligations for mineral\, oil and gas (MOG) listed issuers\,\nDisclosure obligations of special purpose acquisition companies (SPACs); and\nCodification of certain FRS 139 disclosure requirements.\n\nThese new requirements are aimed at promoting greater business efficacy\, while improving corporate governance practices and disclosures as well as seeking to enhance the quality of disclosures and promote greater transparency\, in order to better safeguard investors’ interests. \n4 CEP Hours\nFee is inclusive of 6% GST.\n\nPresenter's Profile\n\nMR. DEVANESAN EVANSON \nDevanesan is a qualified accountant (FCCA) who is also a Chartered Member of the Malaysian Institute of Accountants. He also holds a law degree (LLB Hons) from the University of London. He is a fellow member of the Institute of Internal Auditors Malaysia (FIIA). \nDevanesan was appointed to the Board of AKPK (Agensi Kaunseling dan Pengurusan Kredit) as an independent director and chairman of the audit committee in 2017. AKPK is an agency under the auspices of Bank Negara which provides Credit Counselling and Debt Management for customers of financial institutions. \nHe is also the past President of the ACCA Advisory Committee\, the past-President of the Institute of Internal Auditors Malaysia and a past-Council Member of the Malaysia Institute of Accountants. \nDevanesan retired from Bursa Malaysia in 2010 after serving Bursa Malaysia for eighteen years (1992 – 2010). He started his career at Bursa Malaysia as Head of Internal Audit and Risk Management. He was also\, at one time\, the Chief Regulatory Officer and later\, the Chief Market Operations Officer of Bursa Malaysia. \nHe is also the past President of the ACCA Advisory Committee\, the past-President of the Institute of Internal Auditors Malaysia and a past-Council Member of the Malaysia Institute of Accountants. \nCurrently\, Devanesan is a trainer/facilitator in the areas of corporate governance\, risks\, controls\, Listing Requirements\, boardroom performance\, ethics and other governance and capital market subjects. \n\n\n\nDownload Brochure  Key Highlights Of The Latest Amendments To The Listing Requirements (29/11/2017)File size: 306 KB 
URL:https://hayat10.my/bursatra/event/key-highlights-of-the-latest-amendment-to-the-listing-requirements-29112017
LOCATION:Kuala Lumpur\, Malaysia
CATEGORIES:Corporate Governance Management and Best Practices
ORGANIZER;CN="BURSATRA":MAILTO:bursatra5@gmail.com
END:VEVENT
END:VCALENDAR