BEGIN:VCALENDAR
VERSION:2.0
PRODID:-//Bursatra - ECPv4.5.12.3//NONSGML v1.0//EN
CALSCALE:GREGORIAN
METHOD:PUBLISH
X-WR-CALNAME:Bursatra
X-ORIGINAL-URL:https://hayat10.my/bursatra
X-WR-CALDESC:Events for Bursatra
BEGIN:VEVENT
DTSTART;TZID=Asia/Kuala_Lumpur:20160311T090000
DTEND;TZID=Asia/Kuala_Lumpur:20160311T130000
DTSTAMP:20260421T154930
CREATED:20160128T190453Z
LAST-MODIFIED:20160128T190559Z
UID:1520-1457686800-1457701200@hayat10.my
SUMMARY:Independent Director Role In Facilitating Effective M&A Activities – Doing It Right For Positive Impact
DESCRIPTION:Companies today are actively exploring and pursuing M&A exercises; as such Independent Directors are required to understand M&A activities in order to support the Board’s decision-making process effectively. As any badly executed merger and acquisition exercise can have a major financial impact on the Company’s going concern assumption. In deciding which merger or acquisitions will create shareholder value depends on the rigor and quality of due diligence performed on the transaction. Board members must understand the approach to due diligence goes above and beyond traditional accounting and financial analysis to assess the key assumptions underlying the deal. \n4 CEP Hours\nFee is inclusive of 6% GST.\n\n\nPresenter's Profile\n\n\nMR. BOEY TAK KONGCA (M)\, FCCA\, ACIS\, MIMM\, MMIM \nHe is an approved professional trainer since 2007 with Pembangunan Sumber Manusia Berhad (“HRDF”) and has 23 years of broad based senior management experience in internal audit\, financial management\, corporate affairs and global business development with 6 listed entities with listing in United Kingdom\, Singapore\, Malaysia\, Australia and New Zealand. \nPresently\, he holds directorship in Dutch Lady Milk Industries Bhd\, Green Packet Berhad\, Gadang Holdings Bhd\, Censof Holdings Bhd and Ho Hup Construction Company Bhd. \nPreviously\, he held directorships in IJM Land Berhad\, Sanbumi Holdings Berhad\, Omesti Berhad and Permaju Industries Berhad. \nIn the last 19 years\, he had conducted and participated in seminars and conferences organized by: \n\nMalaysian Institute Of Accountants\nThe Malaysian Institute of Chartered Secretaries & Administrators\nMalaysian Investor Relations Association Berhad\nInstitute of Internal Auditors\nMinority Shareholders Watchdog Group\nMalaysian Institute of Certified Public Accountants\nMalaysian Institute of Corporate Governance\nAssociation of Chartered Certified Accountants\n\n\n\n\n\nDownload Brochure  Independent Director Role In Facilitating Effective M&A Activities – Doing It Right For Positive ImpactFile size: 604 KB 
URL:https://hayat10.my/bursatra/event/independent-director-role-in-facilitating-effective-ma-activities-doing-it-right-for-positive-impact
CATEGORIES:Corporate Governance Management and Best Practices
ORGANIZER;CN="Bursatra":MAILTO:mailmarshal@bursatra.com.my
END:VEVENT
END:VCALENDAR