BEGIN:VCALENDAR
VERSION:2.0
PRODID:-//Bursatra - ECPv4.5.12.3//NONSGML v1.0//EN
CALSCALE:GREGORIAN
METHOD:PUBLISH
X-WR-CALNAME:Bursatra
X-ORIGINAL-URL:https://hayat10.my/bursatra
X-WR-CALDESC:Events for Bursatra
BEGIN:VEVENT
DTSTART;TZID=Asia/Kuala_Lumpur:20171123T090000
DTEND;TZID=Asia/Kuala_Lumpur:20171123T130000
DTSTAMP:20260421T141150
CREATED:20171015T170047Z
LAST-MODIFIED:20171015T175434Z
UID:2496-1511427600-1511442000@hayat10.my
SUMMARY:Improving Annual Report Disclosure Standards - What's Next?
DESCRIPTION: \nThe Annual Report is an important shareholders communication document and a vital information kit to attract potential investors to make the correct investment decision. Over the years\, additional disclosures are necessary to improve on its communicative value to all users of Annual Reports\, like Management Discussion and Analysis and more recent the Sustainability Report. Enhanced disclosure information like diversity in workforce from gender classification\, management grading\, qualification band\, race mix and age group is also now mandatory requirement. \n4 CEP Hours\nFee is inclusive of 6% GST.\n\n\nPresenter's Profile\n\n\nMR. BOEY TAK KONGCA (M)\, FCCA\, ACIS\, MIMM\, MMIM \nHe is an approved professional trainer since 2007 with Pembangunan Sumber Manusia Berhad (“HRDF”) and has 23 years of broad based senior management experience in internal audit\, financial management\, corporate affairs and global business development with 6 listed entities with listing in United Kingdom\, Singapore\, Malaysia\, Australia and New Zealand. \nPresently\, he holds directorship in Dutch Lady Milk Industries Bhd\, Green Packet Berhad\, Gadang Holdings Bhd\, Censof Holdings Bhd and Ho Hup Construction Company Bhd. \nPreviously\, he held directorships in IJM Land Berhad\, Sanbumi Holdings Berhad\, Omesti Berhad and Permaju Industries Berhad. \nIn the last 19 years\, he had conducted and participated in seminars and conferences organized by: \n\nMalaysian Institute Of Accountants\nThe Malaysian Institute of Chartered Secretaries & Administrators\nMalaysian Investor Relations Association Berhad\nInstitute of Internal Auditors\nMinority Shareholders Watchdog Group\nMalaysian Institute of Certified Public Accountants\nMalaysian Institute of Corporate Governance\nAssociation of Chartered Certified Accountants\n\n\n\n\n\nDownload Brochure  Improving Annual Report Disclosure Standards - What's Next?File size: 168 KB 
URL:https://hayat10.my/bursatra/event/improving-annual-report-disclosure-standards-whats-next-2
LOCATION:Kuala Lumpur\, Malaysia
CATEGORIES:Corporate Governance Management and Best Practices,Improving Annual Report Disclosure Standards - What's Next?
ORGANIZER;CN="BURSATRA":MAILTO:bursatra5@gmail.com
END:VEVENT
END:VCALENDAR