BEGIN:VCALENDAR
VERSION:2.0
PRODID:-//Bursatra - ECPv4.5.12.3//NONSGML v1.0//EN
CALSCALE:GREGORIAN
METHOD:PUBLISH
X-WR-CALNAME:Bursatra
X-ORIGINAL-URL:https://hayat10.my/bursatra
X-WR-CALDESC:Events for Bursatra
BEGIN:VEVENT
DTSTART;TZID=Asia/Kuala_Lumpur:20171122T090000
DTEND;TZID=Asia/Kuala_Lumpur:20171122T130000
DTSTAMP:20260421T141622
CREATED:20171002T120007Z
LAST-MODIFIED:20171002T121732Z
UID:3282-1511341200-1511355600@hayat10.my
SUMMARY:How To Control Journalists And Their Questions\, And Make Them Write What You Want Them To Write
DESCRIPTION:\nTHERE ARE simple and effective techniques to handle journalists and their questions\, even the tough and tricky questions. Whether they are local or foreign journalists\, the techniques to deal with them and their questions are all the same. These are techniques not many people know\, and these are techniques I will show you how you can turn press conferences and media interviews into opportunities.SW Chan\n\n4 CEP Hours\nFee is inclusive of 6% GST.\n\n\nPresenter's Profile\n\nSW CHAN\, a former senior journalist\, is a media strategy advisor and a specialist trainer in media relations\, media handling and media crisis management skills. \nHe has 18 years of experience in journalism and 15 years in his current field – media advisory and media training. He has provided expert media guidance on advisory basis to major companies and media-trained corporate executives (who included CEOs\, MDs\, board directors and corporate communications professionals) and government officers. \nBesides running public and in-house media-training programmes for diverse companies and organisations\,\nChan conducts media skills training regularly for Malaysian and foreign diplomats\, in diplomatic courses organised by the Institute of Diplomacy & Foreign Relations (IDFR) of the Ministry of Foreign Affairs. \nHe has also been an appointed trainer (consultant basis) on media crisis management to oil and gas company Shell for 12 years previously. \nPrior to becoming a Media Strategy Advisor/Trainer\, Chan was a journalist in both newspaper and TV journalism with three leading news organisations. \nHe was a Reporter\, News Correspondent\, Senior Writer and Sub-Editor in The Star\, Senior Editor in The Sun\, and Managing Editor\, News\, in ntv7. He was a pioneer editor in The Sun and ntv7. \nChan is still very much in touch with latest developments in journalism and the overall news media industry. The media skills he presents in his training programmes are applicable in dealing with the local and foreign as well as the international news media not only in Malaysia but anywhere in the world. \n\n\n\n\n\nDownload Brochure  How To Control Journalists And Their Questions\, And Make Them Write What You Want Them To WriteFile size: 644 KB 
URL:https://hayat10.my/bursatra/event/how-to-control-journalists-and-their-questions-and-make-them-write-what-you-want-them-to-write
LOCATION:Petaling Jaya\, Malaysia
CATEGORIES:How To Control Journalists And Their Questions, And Make Them Write What You Want Them To Write,Personal Management and Development Skill
ORGANIZER;CN="Bursatra-Sophiah":MAILTO:sophiah@bursatra.com.my
END:VEVENT
END:VCALENDAR