BEGIN:VCALENDAR
VERSION:2.0
PRODID:-//Bursatra - ECPv4.5.12.3//NONSGML v1.0//EN
CALSCALE:GREGORIAN
METHOD:PUBLISH
X-WR-CALNAME:Bursatra
X-ORIGINAL-URL:https://hayat10.my/bursatra
X-WR-CALDESC:Events for Bursatra
BEGIN:VEVENT
DTSTART;TZID=Asia/Kuala_Lumpur:20160506T090000
DTEND;TZID=Asia/Kuala_Lumpur:20160506T130000
DTSTAMP:20260421T203331
CREATED:20160131T165904Z
LAST-MODIFIED:20160131T165904Z
UID:1554-1462525200-1462539600@hayat10.my
SUMMARY:How Directors Can Ensure The Preparation Of An Effective Business Plan
DESCRIPTION:The traditional Company’s Business Plan is a strategic document that outlines the organization’s core values\, business direction\, operating performance goals\, investment strategies\, capital expenditure budget and funding requirements.  However\, intangible components are now gaining significant in the Business Plan process that address the issues of talent diversity\, customer segmentation and the adoption of environmental best practices\, which are now crucial in determining the overall success of companies going forward and closely watched by Institutional Investors for their key non-financial attributes. Accordingly\, organizations today need to support its strategic intent with a concise sustainability report and a comprehensive action agenda to manage and monitor the risks management process as required under Integrated Reporting framework\, in line with proper Management Discussion & Analysis disclosures. \n4 CEP Hours\nFee is inclusive of 6% GST.\n\n\nPresenter's Profile\n\n\nMR. BOEY TAK KONGCA (M)\, FCCA\, ACIS\, MIMM\, MMIM \nHe is an approved professional trainer since 2007 with Pembangunan Sumber Manusia Berhad (“HRDF”) and has 23 years of broad based senior management experience in internal audit\, financial management\, corporate affairs and global business development with 6 listed entities with listing in United Kingdom\, Singapore\, Malaysia\, Australia and New Zealand. \nPresently\, he holds directorship in Dutch Lady Milk Industries Bhd\, Green Packet Berhad\, Gadang Holdings Bhd\, Censof Holdings Bhd and Ho Hup Construction Company Bhd. \nPreviously\, he held directorships in IJM Land Berhad\, Sanbumi Holdings Berhad\, Omesti Berhad and Permaju Industries Berhad. \nIn the last 19 years\, he had conducted and participated in seminars and conferences organized by: \n\nMalaysian Institute Of Accountants\nThe Malaysian Institute of Chartered Secretaries & Administrators\nMalaysian Investor Relations Association Berhad\nInstitute of Internal Auditors\nMinority Shareholders Watchdog Group\nMalaysian Institute of Certified Public Accountants\nMalaysian Institute of Corporate Governance\nAssociation of Chartered Certified Accountants\n\n\n\n\n\nDownload Brochure  How Directors Can Ensure The Preparation Of An Effective Business PlanFile size: 210 KB 
URL:https://hayat10.my/bursatra/event/how-directors-can-ensure-the-preparation-of-an-effective-business-plan-2
CATEGORIES:Corporate Governance Management and Best Practices
ORGANIZER;CN="Bursatra":MAILTO:mailmarshal@bursatra.com.my
END:VEVENT
END:VCALENDAR