BEGIN:VCALENDAR
VERSION:2.0
PRODID:-//Bursatra - ECPv4.5.12.3//NONSGML v1.0//EN
CALSCALE:GREGORIAN
METHOD:PUBLISH
X-WR-CALNAME:Bursatra
X-ORIGINAL-URL:https://hayat10.my/bursatra
X-WR-CALDESC:Events for Bursatra
BEGIN:VEVENT
DTSTART;TZID=Asia/Kuala_Lumpur:20180316T090000
DTEND;TZID=Asia/Kuala_Lumpur:20180316T170000
DTSTAMP:20260421T170226
CREATED:20180107T165204Z
LAST-MODIFIED:20180107T165204Z
UID:3646-1521190800-1521219600@hayat10.my
SUMMARY:GST Update\, Special Business Treatment\, Audit And Issues
DESCRIPTION:Since the implementation of Goods and Services Tax (GST) in Malaysia in April 2015\, many businesses are still confused with the interpretation of the GST legislation and requirement. The Royal Malaysia Customs Department (RMCD) has increased the recommended GST tax codes to cater for wider business transaction. \nAssignment of GST tax codes has been a challenging task due to confusion and difficulty in applying these tax codes. Businesses have to ensure the GST tax codes are accurately assigned in the GST-03 return for submission to RMCD. In addition\, stringent checks by Customs on the GST treatment on business transaction have resulted in organization being compounded for offences. In the face of these challenges\, GST registered persons have become anxious and are looking for correct solution. \nThis Program will also provide an update on GST treatment in business transactions. At the end of the program participants shall upgrade their knowledge on the latest changes in GST as well as to prepare for the GST audits\, needs to be done to avoid material errors\, mistakes and omissions. \n8 CEP Hours\nFee is inclusive of 6% GST.\n\nSpeaker's Profile\n\n\nMR. TAM FOOK CHEONG\nFCCA\, ACMA\, CGMA\, MIA \nKenneth Tam is a trainer cum consultant. He has over 30 years of corporate experience in the field of financial management\, financial accounting\, tax\, business planning and budgeting. He had wide\, extensive and hand-on experience in various industries which include oil and gas (upstream and downstream)\, manufacturing\, trading\, project management and education. From 1980 to 2008 he held various managerial positions in a Global oil and gas group of companies\, one of the Fortune 500 companies. \nSince 2009 he became a full-time learning consultant\, he has contributed to the success of many training programmes through result-oriented and energetic training methods. Kenneth’s training style is refreshing and energetic\, relaxing his audience. By providing a practical approach in his presentation\, alongside easy-to-use templates\, he inspires his audience to take action and produce results. He provides ways on how to transform and enhance existing skills\, mental attitudes and mindsets at all levels\, to improve individual and corporate performance. This comes as no surprise as Kenneth has been lecturing extensively in various university colleges many years ago in strategic financial management\, performance measurement and financial reporting for professional examination boards namely ACCA\, MICPA CIMA\, and ICSA & ICAA. Currently Kenneth is also a local counsellor in the Finance Module of two MBA learning programmes. As a corporate trainer cum consultant\, he has experience in designing\, developing and delivering various training programme for both in-house as well as public programmes. \nKenneth Tam is a Fellow member of the Association of Certified Chartered Accountants UK (FCCA)\, Associate member of the Chartered Institute of Management Accountants UK (ACMA)\, member of the Charted Global Management Accountant (CGMA)\, a member of the Malaysian Institute of Accountants (MIA). He also obtained a Certificate IV in assessment and workplace training from Australia and approved certified trainer from PSMB. In additional\, Kenneth Tam is currently also an Independent Non-Executive Director of a company listed on the main market of Bursa Malaysia. \n\n\n\nDownload Brochure  GST Update\, Special Business Treatment\, Audit And IssuesFile size: 731 KB 
URL:https://hayat10.my/bursatra/event/gst-update-special-business-treatment-audit-and-issues
LOCATION:Kuala Lumpur\, Malaysia
CATEGORIES:Financial Management & Reporting,GST Update, Special Business Treatment, Audit And Issues
ORGANIZER;CN="Bursatra-Sophiah":MAILTO:sophiah@bursatra.com.my
END:VEVENT
END:VCALENDAR