BEGIN:VCALENDAR
VERSION:2.0
PRODID:-//Bursatra - ECPv4.5.12.3//NONSGML v1.0//EN
CALSCALE:GREGORIAN
METHOD:PUBLISH
X-WR-CALNAME:Bursatra
X-ORIGINAL-URL:https://hayat10.my/bursatra
X-WR-CALDESC:Events for Bursatra
BEGIN:VEVENT
DTSTART;TZID=Asia/Kuala_Lumpur:20180209T090000
DTEND;TZID=Asia/Kuala_Lumpur:20180209T170000
DTSTAMP:20260421T141600
CREATED:20171231T220050Z
LAST-MODIFIED:20180101T114027Z
UID:2248-1518166800-1518195600@hayat10.my
SUMMARY:Financial & Cost Management Essential For Directors And Senior Management
DESCRIPTION:This program is designed for top management across industries to give a good overview of using financial and costing information to manage the business. Whether you are in general management\, Director of sales and marketing or business operation\, you need some basic understanding of financial sequences and implication of a decision made by the top management.   The participant will also learn the cost behaviour in product costing and the techniques used for project evaluation in a simple and understandable language. This program also covers area on marginal costing and breakeven analysis for decision making.   \n8 CEP Hours\nFee is inclusive of 6% GST.\n\nSpeaker's Profile\n\n\nMR. TAM FOOK CHEONG\nFCCA\, ACMA\, CGMA\, MIA \nKenneth Tam is a trainer cum consultant. He has over 30 years of corporate experience in the field of financial management\, financial accounting\, tax\, business planning and budgeting. He had wide\, extensive and hand-on experience in various industries which include oil and gas (upstream and downstream)\, manufacturing\, trading\, project management and education. From 1980 to 2008 he held various managerial positions in a Global oil and gas group of companies\, one of the Fortune 500 companies. \nSince 2009 he became a full-time learning consultant\, he has contributed to the success of many training programmes through result-oriented and energetic training methods. Kenneth’s training style is refreshing and energetic\, relaxing his audience. By providing a practical approach in his presentation\, alongside easy-to-use templates\, he inspires his audience to take action and produce results. He provides ways on how to transform and enhance existing skills\, mental attitudes and mindsets at all levels\, to improve individual and corporate performance. This comes as no surprise as Kenneth has been lecturing extensively in various university colleges many years ago in strategic financial management\, performance measurement and financial reporting for professional examination boards namely ACCA\, MICPA CIMA\, and ICSA & ICAA. Currently Kenneth is also a local counsellor in the Finance Module of two MBA learning programmes. As a corporate trainer cum consultant\, he has experience in designing\, developing and delivering various training programme for both in-house as well as public programmes. \nKenneth Tam is a Fellow member of the Association of Certified Chartered Accountants UK (FCCA)\, Associate member of the Chartered Institute of Management Accountants UK (ACMA)\, member of the Charted Global Management Accountant (CGMA)\, a member of the Malaysian Institute of Accountants (MIA). He also obtained a Certificate IV in assessment and workplace training from Australia and approved certified trainer from PSMB. In additional\, Kenneth Tam is currently also an Independent Non-Executive Director of a company listed on the main market of Bursa Malaysia. \n\n\n\nDownload Brochure  Financial & Cost Management Essential For Directors And Senior ManagementFile size: 141 KB 
URL:https://hayat10.my/bursatra/event/financial-cost-management-essential-for-directors-and-senior-management
LOCATION:Kuala Lumpur\, Malaysia
CATEGORIES:Financial & Cost Management Essential For Directors And Senior Management,Financial Management & Reporting
ORGANIZER;CN="Bursatra-Sophiah":MAILTO:sophiah@bursatra.com.my
END:VEVENT
END:VCALENDAR