BEGIN:VCALENDAR
VERSION:2.0
PRODID:-//Bursatra - ECPv4.5.12.3//NONSGML v1.0//EN
CALSCALE:GREGORIAN
METHOD:PUBLISH
X-WR-CALNAME:Bursatra
X-ORIGINAL-URL:https://hayat10.my/bursatra
X-WR-CALDESC:Events for Bursatra
BEGIN:VEVENT
DTSTART;TZID=Asia/Kuala_Lumpur:20161013T090000
DTEND;TZID=Asia/Kuala_Lumpur:20161013T130000
DTSTAMP:20260421T230141
CREATED:20160610T013716Z
LAST-MODIFIED:20160612T172222Z
UID:1874-1476349200-1476363600@hayat10.my
SUMMARY:Financial Communications And Effective Media Management
DESCRIPTION:The role of financial communications in public listed companies (PLCs) is becoming increasingly more important these days. In the light of the current market conditions\, PLCs need to deal more effectively with their shareholders and stakeholders\, both existing and potential. Financial communications encompasses not just communicating with the investment community but also\, to a large extent\, dealing with the financial media. \n4 CEP Hours\nFee is inclusive of 6% GST.\n\n\nSpeaker's Profile\n\nMR S.LOGANATHAN\, who is previously the Consulting Editor\, Business Times at the New Straits Times\, has more than 30 years of experience encompassing the financial media\, the Bursa Malaysia group and Perbadanan Insurans Deposit Malaysia (PIDM) as well as the financial communications and investor relations industry. He started his career as a journalist with Bernama and then with Business Times\, where during his six-year stint as a financial journalist\, he specialised in writing corporate\, stock market and securities industry news and articles. Loganathan subsequently joined the Bursa Malaysia (then known as the Kuala Lumpur Stock Exchange) group in 1990 and rose through the ranks\, holding various senior positions including that as Senior Vice President\, Market Development at KLSE. He was the General Manager the Labuan International Financial Exchange when he left the Bursa Malaysia group in 2004 to set up the Malaysian office of Wer-1 Consultants\, a consultancy firm specialising in investor relations and media strategy services with its head office in Singapore. In 2006\, Loganathan joined Perbadanan Insurans Deposit Malaysia (PIDM) as its General Manager for Communications and Public Affairs. During his five years there\, he was responsible for communications and public relations as well as managing the public awareness programmes of the national deposit insurance agency. Before joining the New Straits Times in September 2014\, Loganathan was a consultant with Bursatra Sdn Bhd\, More recently\, he was the Client Services Director at Eric Pringle Associates PR Sdn Bhd\, an established public relations firm in Kuala Lumpur. Loga graduated from Universiti Kebangsaan Malaysia with a BBA (Hons) degree in 1984. \n\n\n\n\n\nDownload Brochure  Financial Communications And Effective Media ManagementFile size: 582 KB 
URL:https://hayat10.my/bursatra/event/financial-communications-oct
LOCATION:Petaling Jaya\, Malaysia
CATEGORIES:Corporate Governance Management and Best Practices,Financial Communications And Effective Media Management
ORGANIZER;CN="Bursatra":MAILTO:mailmarshal@bursatra.com.my
END:VEVENT
END:VCALENDAR