BEGIN:VCALENDAR
VERSION:2.0
PRODID:-//Bursatra - ECPv4.5.12.3//NONSGML v1.0//EN
CALSCALE:GREGORIAN
METHOD:PUBLISH
X-WR-CALNAME:Bursatra
X-ORIGINAL-URL:https://hayat10.my/bursatra
X-WR-CALDESC:Events for Bursatra
BEGIN:VEVENT
DTSTART;TZID=Asia/Kuala_Lumpur:20180628T090000
DTEND;TZID=Asia/Kuala_Lumpur:20180628T170000
DTSTAMP:20260423T070445
CREATED:20180107T162944Z
LAST-MODIFIED:20180107T162944Z
UID:3639-1530176400-1530205200@hayat10.my
SUMMARY:Finance For Non-Finance Professionals: Tackling The Financials - Are You Equipped?
DESCRIPTION:Every business decision you make today has a financial implication on your organisation. Whether you are in general management\, sales and marketing\, production\, operation or company secretary\, you need some basic understanding of various financial sequences and implication of a decision made by your team members. \nThis course is specially designed to provide the essentials tools for you to measure the organization’s financial performance and trains you to be confident in using the tools for corporate performance measurement. Finance and accounting cannot be left solely to the financial staff as you will need the understanding of financial statement in order to create a competitive advantage over your counterpart within the same industry as well as monitor whether the target set\, has been achieved. \nParticipants will learn the features and limitation of financial statement which become the primary source of information for decision making and success in the long term. \nThis program will also guide you through the importance aspect of Management accounting and capital investment/project evaluation.\n \n8 CEP Hours\nFee is inclusive of 6% GST.\n\nSpeaker's Profile\n\n\nMR. TAM FOOK CHEONG\nFCCA\, ACMA\, CGMA\, MIA \nKenneth Tam is a trainer cum consultant. He has over 30 years of corporate experience in the field of financial management\, financial accounting\, tax\, business planning and budgeting. He had wide\, extensive and hand-on experience in various industries which include oil and gas (upstream and downstream)\, manufacturing\, trading\, project management and education. From 1980 to 2008 he held various managerial positions in a Global oil and gas group of companies\, one of the Fortune 500 companies. \nSince 2009 he became a full-time learning consultant\, he has contributed to the success of many training programmes through result-oriented and energetic training methods. Kenneth’s training style is refreshing and energetic\, relaxing his audience. By providing a practical approach in his presentation\, alongside easy-to-use templates\, he inspires his audience to take action and produce results. He provides ways on how to transform and enhance existing skills\, mental attitudes and mindsets at all levels\, to improve individual and corporate performance. This comes as no surprise as Kenneth has been lecturing extensively in various university colleges many years ago in strategic financial management\, performance measurement and financial reporting for professional examination boards namely ACCA\, MICPA CIMA\, and ICSA & ICAA. Currently Kenneth is also a local counsellor in the Finance Module of two MBA learning programmes. As a corporate trainer cum consultant\, he has experience in designing\, developing and delivering various training programme for both in-house as well as public programmes. \nKenneth Tam is a Fellow member of the Association of Certified Chartered Accountants UK (FCCA)\, Associate member of the Chartered Institute of Management Accountants UK (ACMA)\, member of the Charted Global Management Accountant (CGMA)\, a member of the Malaysian Institute of Accountants (MIA). He also obtained a Certificate IV in assessment and workplace training from Australia and approved certified trainer from PSMB. In additional\, Kenneth Tam is currently also an Independent Non-Executive Director of a company listed on the main market of Bursa Malaysia. \n\n\n\nDownload Brochure  Finance For Non-Finance Professionals: Tackling The Financials - Are You Equipped?File size: 825 KB 
URL:https://hayat10.my/bursatra/event/finance-for-non-finance-professionals-tackling-the-financials-are-you-equipped
LOCATION:Kuala Lumpur\, Malaysia
CATEGORIES:Finance For Non-Finance Professionals: Tackling The Financials - Are You Equipped?,Financial Management & Reporting
ORGANIZER;CN="Bursatra-Sophiah":MAILTO:sophiah@bursatra.com.my
END:VEVENT
END:VCALENDAR