BEGIN:VCALENDAR
VERSION:2.0
PRODID:-//Bursatra - ECPv4.5.12.3//NONSGML v1.0//EN
CALSCALE:GREGORIAN
METHOD:PUBLISH
X-WR-CALNAME:Bursatra
X-ORIGINAL-URL:https://hayat10.my/bursatra
X-WR-CALDESC:Events for Bursatra
BEGIN:VEVENT
DTSTART;TZID=Asia/Kuala_Lumpur:20161124T090000
DTEND;TZID=Asia/Kuala_Lumpur:20161124T130000
DTSTAMP:20260421T183533
CREATED:20160918T200157Z
LAST-MODIFIED:20161011T061324Z
UID:2174-1479978000-1479992400@hayat10.my
SUMMARY:Expectation On PLCs And Directors In Disclosure & Compliance Requirements Under The Listing Requirements
DESCRIPTION:\n\nA strong disclosure regime that promotes real transparency is a pivotal part of market based monitoring of companies and is central to shareholders’ ability to exercise their ownership rights on an informed basis\n\n\n… Organisation For Economic Co-Operation and Development (“OECD”) Corporate Governance Principles.\n4 CEP Hours\nFee is exclusive of 6% GST.\n\n\nPresenter's Profile\n\n\nMR. DEVANESAN EVANSON \nDevanesan is a qualified accountant (FCCA) who is also a Chartered Member of the Malaysian Institute of Accountants. He also holds a law degree (LLB Hons) from the University of London. He is a fellow member of the Institute of Internal Auditors Malaysia (FIIA). \nDevanesan was appointed to the Board of AKPK (Agensi Kaunseling dan Pengurusan Kredit) as an independent director and chairman of the audit committee in 2017. AKPK is an agency under the auspices of Bank Negara which provides Credit Counselling and Debt Management for customers of financial institutions. \nHe is also the past President of the ACCA Advisory Committee\, the past-President of the Institute of Internal Auditors Malaysia and a past-Council Member of the Malaysia Institute of Accountants. \nDevanesan retired from Bursa Malaysia in 2010 after serving Bursa Malaysia for eighteen years (1992 – 2010). He started his career at Bursa Malaysia as Head of Internal Audit and Risk Management. He was also\, at one time\, the Chief Regulatory Officer and later\, the Chief Market Operations Officer of Bursa Malaysia. \nHe is also the past President of the ACCA Advisory Committee\, the past-President of the Institute of Internal Auditors Malaysia and a past-Council Member of the Malaysia Institute of Accountants. \nCurrently\, Devanesan is a trainer/facilitator in the areas of corporate governance\, risks\, controls\, Listing Requirements\, boardroom performance\, ethics and other governance and capital market subjects. \n\n\n\n\nDownload Brochure  Expectation On PLCs And Directors In Disclosure & Compliance Requirements Under The Listing RequirementsFile size: 767 KB 
URL:https://hayat10.my/bursatra/event/expectation-on-plcs-and-directors-in-disclosure-compliance-requirements-under-the-listing-requirements-2
CATEGORIES:Corporate Governance Management and Best Practices,plcs
ORGANIZER;CN="BURSATRA":MAILTO:bursatra5@gmail.com
END:VEVENT
END:VCALENDAR