BEGIN:VCALENDAR
VERSION:2.0
PRODID:-//Bursatra - ECPv4.5.12.3//NONSGML v1.0//EN
CALSCALE:GREGORIAN
METHOD:PUBLISH
X-WR-CALNAME:Bursatra
X-ORIGINAL-URL:https://hayat10.my/bursatra
X-WR-CALDESC:Events for Bursatra
BEGIN:VEVENT
DTSTART;TZID=Asia/Kuala_Lumpur:20161012T090000
DTEND;TZID=Asia/Kuala_Lumpur:20161012T130000
DTSTAMP:20260421T213812
CREATED:20160908T200118Z
LAST-MODIFIED:20161006T190405Z
UID:2047-1476262800-1476277200@hayat10.my
SUMMARY:Embracing The Board’s Role In Corporate Transformation  For Sustainable Results
DESCRIPTION:The increasing uncertainty in global business witnessed by major paradigm shift in the way conventional business models are collapsing\, including the financial services and commodity sectors\, corporations are undergoing major realignment exercises to stay relevant and profitable.  Accordingly\, companies need to rethink and reshape business fundamentals of driving growth; re-energizing talent pool and strengthening finance strategy\, in order for the Board and management to stay focus on strategy execution for realistic growth in building a long-term sustainable business pillars for measurable results. \n4 CEP Hours\nFee is exclusive of 6% GST.\n\n\nPresenter's Profile\n\n\nMR. BOEY TAK KONGCA (M)\, FCCA\, ACIS\, MIMM\, MMIM \nHe is an approved professional trainer since 2007 with Pembangunan Sumber Manusia Berhad (“HRDF”) and has 23 years of broad based senior management experience in internal audit\, financial management\, corporate affairs and global business development with 6 listed entities with listing in United Kingdom\, Singapore\, Malaysia\, Australia and New Zealand. \nPresently\, he holds directorship in Dutch Lady Milk Industries Bhd\, Green Packet Berhad\, Gadang Holdings Bhd\, Censof Holdings Bhd and Ho Hup Construction Company Bhd. \nPreviously\, he held directorships in IJM Land Berhad\, Sanbumi Holdings Berhad\, Omesti Berhad and Permaju Industries Berhad. \nIn the last 19 years\, he had conducted and participated in seminars and conferences organized by: \n\nMalaysian Institute Of Accountants\nThe Malaysian Institute of Chartered Secretaries & Administrators\nMalaysian Investor Relations Association Berhad\nInstitute of Internal Auditors\nMinority Shareholders Watchdog Group\nMalaysian Institute of Certified Public Accountants\nMalaysian Institute of Corporate Governance\nAssociation of Chartered Certified Accountants\n\n\n\n\n\nDownload Brochure  Embracing The Board’s Role In Corporate Transformation For Sustainable ResultsFile size: 733 KB 
URL:https://hayat10.my/bursatra/event/embracing-the-boards-role-in-corporate-transformation-for-sustainable-results
CATEGORIES:Corporate Governance Management and Best Practices,Embracing The Board’s Role In Corporate Transformation For Sustainable Results
ORGANIZER;CN="BURSATRA":MAILTO:bursatra5@gmail.com
END:VEVENT
END:VCALENDAR