BEGIN:VCALENDAR
VERSION:2.0
PRODID:-//Bursatra - ECPv4.5.12.3//NONSGML v1.0//EN
CALSCALE:GREGORIAN
METHOD:PUBLISH
X-WR-CALNAME:Bursatra
X-ORIGINAL-URL:https://hayat10.my/bursatra
X-WR-CALDESC:Events for Bursatra
BEGIN:VEVENT
DTSTART;TZID=Asia/Kuala_Lumpur:20160318T090000
DTEND;TZID=Asia/Kuala_Lumpur:20160318T130000
DTSTAMP:20260421T202947
CREATED:20160131T173620Z
LAST-MODIFIED:20160131T173620Z
UID:1558-1458291600-1458306000@hayat10.my
SUMMARY:Detecting\, Preventing & Reporting Fraud And Financial Irregularities - What A Company Secretary Needs To Do
DESCRIPTION:Company Secretaries today must demonstrate the ability to highlight potential red flags and to assist the Board in its governance process in detecting\, preventing and reporting issues of potential frauds or financial irregularities to the appropriate Authorities and Regulators. Accordingly\, Company Secretaries must learn best practices in good corporate governance for fraud detection and preventive controls in addressing possible crimes to be committed in the operating environment to effectively assist the Board in safeguarding the company’s assets and to understand the whistle-blowing policy. \n4 CEP Hours\nFee is inclusive of 6% GST.\n\n\nPresenter's Profile\n\n\nMR. BOEY TAK KONGCA (M)\, FCCA\, ACIS\, MIMM\, MMIM \nHe is an approved professional trainer since 2007 with Pembangunan Sumber Manusia Berhad (“HRDF”) and has 23 years of broad based senior management experience in internal audit\, financial management\, corporate affairs and global business development with 6 listed entities with listing in United Kingdom\, Singapore\, Malaysia\, Australia and New Zealand. \nPresently\, he holds directorship in Dutch Lady Milk Industries Bhd\, Green Packet Berhad\, Gadang Holdings Bhd\, Censof Holdings Bhd and Ho Hup Construction Company Bhd. \nPreviously\, he held directorships in IJM Land Berhad\, Sanbumi Holdings Berhad\, Omesti Berhad and Permaju Industries Berhad. \nIn the last 19 years\, he had conducted and participated in seminars and conferences organized by: \n\nMalaysian Institute Of Accountants\nThe Malaysian Institute of Chartered Secretaries & Administrators\nMalaysian Investor Relations Association Berhad\nInstitute of Internal Auditors\nMinority Shareholders Watchdog Group\nMalaysian Institute of Certified Public Accountants\nMalaysian Institute of Corporate Governance\nAssociation of Chartered Certified Accountants\n\n\n\n\n\nDownload Brochure  Detecting\, Preventing & Reporting Fraud And Financial Irregularities - What A Company Secretary Needs To DoFile size: 214 KB 
URL:https://hayat10.my/bursatra/event/detecting-preventing-reporting-fraud-and-financial-irregularities-what-a-company-secretary-needs-to-do
CATEGORIES:Corporate Governance Management and Best Practices
ORGANIZER;CN="Bursatra":MAILTO:mailmarshal@bursatra.com.my
END:VEVENT
END:VCALENDAR