BEGIN:VCALENDAR
VERSION:2.0
PRODID:-//Bursatra - ECPv4.5.12.3//NONSGML v1.0//EN
CALSCALE:GREGORIAN
METHOD:PUBLISH
X-WR-CALNAME:Bursatra
X-ORIGINAL-URL:https://hayat10.my/bursatra
X-WR-CALDESC:Events for Bursatra
BEGIN:VEVENT
DTSTART;TZID=Asia/Kuala_Lumpur:20150910T090000
DTEND;TZID=Asia/Kuala_Lumpur:20150910T130000
DTSTAMP:20260421T113038
CREATED:20150617T103906Z
LAST-MODIFIED:20150617T103906Z
UID:1078-1441875600-1441890000@hayat10.my
SUMMARY:Cooking the Books - The Malaysian Recipe on Financial Frauds
DESCRIPTION:Fraudulent financial reporting is the result of cooking-the-books activities performed by companies to falsify their financial statements. In today’s environment\, cooking-the-books activities employs highly sophisticated accounting techniques to window dress the financial performance of a company. The activities carried out by these companies give investors and regulators an awakening indication concerning the dark reality that companies are hiding the ugly truth between the lines of their financial data. \n4 CEP Hours\n\n\nSpeaker's Profile\n\nSuresh N.Kannan who is 59 years old\, holds a Bachelor’s degree in Accountancy from United Kingdom. He also holds a Master’s degree with distinction and PhD in Business Administration. Workwise\, Suresh was with Bursa Malaysia (previously known as Kuala Lumpur Stock Exchange) for the last sixteen years. He was the Head of Compliance. He has held two other positions prior to his current position namely Head of Support Services Audit and Head of Issuers Investigation and Enforcement. Over the years\, he had been actively involved with developmental projects and management task force within Bursa Malaysia. Suresh has been a speaker to a number of seminars and the Mandatory Accreditation program for newly appointed directors. \n\n\n\n\n\n
URL:https://hayat10.my/bursatra/event/cooking-the-books-the-malaysian-recipe-on-financial-frauds-2
CATEGORIES:Corporate Governance Management and Best Practices
ORGANIZER;CN="Bursatra":MAILTO:mailmarshal@bursatra.com.my
END:VEVENT
END:VCALENDAR