BEGIN:VCALENDAR
VERSION:2.0
PRODID:-//Bursatra - ECPv4.5.12.3//NONSGML v1.0//EN
CALSCALE:GREGORIAN
METHOD:PUBLISH
X-WR-CALNAME:Bursatra
X-ORIGINAL-URL:https://hayat10.my/bursatra
X-WR-CALDESC:Events for Bursatra
BEGIN:VEVENT
DTSTART;TZID=Asia/Kuala_Lumpur:20161125T090000
DTEND;TZID=Asia/Kuala_Lumpur:20161125T130000
DTSTAMP:20260421T200840
CREATED:20160912T182532Z
LAST-MODIFIED:20160912T182532Z
UID:2055-1480064400-1480078800@hayat10.my
SUMMARY:Common Mistakes Made By Company Directors In Managing Their Business (with real life cases)
DESCRIPTION:Directors (whether independent or non-independent) are ultimately responsible for the management of a company and are susceptible to oversights and making mistakes. \n4 CEP Hours\nFee is exclusive of 6% GST.\n\n\nPresenter's Profile\n\n\nMR. DEVANESAN EVANSON \nDevanesan is a qualified accountant (FCCA) who is also a Chartered Member of the Malaysian Institute of Accountants. He also holds a law degree (LLB Hons) from the University of London. He is a fellow member of the Institute of Internal Auditors Malaysia (FIIA). \nDevanesan was appointed to the Board of AKPK (Agensi Kaunseling dan Pengurusan Kredit) as an independent director and chairman of the audit committee in 2017. AKPK is an agency under the auspices of Bank Negara which provides Credit Counselling and Debt Management for customers of financial institutions. \nHe is also the past President of the ACCA Advisory Committee\, the past-President of the Institute of Internal Auditors Malaysia and a past-Council Member of the Malaysia Institute of Accountants. \nDevanesan retired from Bursa Malaysia in 2010 after serving Bursa Malaysia for eighteen years (1992 – 2010). He started his career at Bursa Malaysia as Head of Internal Audit and Risk Management. He was also\, at one time\, the Chief Regulatory Officer and later\, the Chief Market Operations Officer of Bursa Malaysia. \nHe is also the past President of the ACCA Advisory Committee\, the past-President of the Institute of Internal Auditors Malaysia and a past-Council Member of the Malaysia Institute of Accountants. \nCurrently\, Devanesan is a trainer/facilitator in the areas of corporate governance\, risks\, controls\, Listing Requirements\, boardroom performance\, ethics and other governance and capital market subjects. \n\n\n\n\nDownload Brochure  Common Mistakes Made By Company Directors In Managing Their BusinessFile size: 920 KB 
URL:https://hayat10.my/bursatra/event/common-mistakes-made-by-company-directors-in-managing-their-business-with-real-life-cases-2
LOCATION:Petaling Jaya\, Malaysia
CATEGORIES:Common Mistakes Made By Company Directors In Managing Their Business,Corporate Governance Management and Best Practices
ORGANIZER;CN="BURSATRA":MAILTO:bursatra5@gmail.com
END:VEVENT
END:VCALENDAR