BEGIN:VCALENDAR
VERSION:2.0
PRODID:-//Bursatra - ECPv4.5.12.3//NONSGML v1.0//EN
CALSCALE:GREGORIAN
METHOD:PUBLISH
X-WR-CALNAME:Bursatra
X-ORIGINAL-URL:https://hayat10.my/bursatra
X-WR-CALDESC:Events for Bursatra
BEGIN:VEVENT
DTSTART;TZID=Asia/Kuala_Lumpur:20150810T090000
DTEND;TZID=Asia/Kuala_Lumpur:20150810T130000
DTSTAMP:20260421T134701
CREATED:20150613T132116Z
LAST-MODIFIED:20150630T153311Z
UID:1034-1439197200-1439211600@hayat10.my
SUMMARY:Changing  Audit Committee’s Perspective On Financial Reporting & Internal Audit Assurance Challenges
DESCRIPTION:High financial reporting standards are demanded by both the regulators and shareholders in term of transparency and integrity of the recording and reporting process. This course demonstrate the essential changing reporting requirements and standards that requires the internal audit function to conduct its audit review differently and more in-depth on operational issues affecting the bottom-line. \n4 CEP Hours\n\nMR. BOEY TAK KONGCA (M)\, FCCA\, ACIS\, MIMM\, MMIM \nHe is an approved professional trainer since 2007 with Pembangunan Sumber Manusia Berhad (“HRDF”) and has 23 years of broad based senior management experience in internal audit\, financial management\, corporate affairs and global business development with 6 listed entities with listing in United Kingdom\, Singapore\, Malaysia\, Australia and New Zealand. \nPresently\, he holds directorship in Dutch Lady Milk Industries Bhd\, Green Packet Berhad\, Gadang Holdings Bhd\, Censof Holdings Bhd and Ho Hup Construction Company Bhd. \nPreviously\, he held directorships in IJM Land Berhad\, Sanbumi Holdings Berhad\, Omesti Berhad and Permaju Industries Berhad. \nIn the last 19 years\, he had conducted and participated in seminars and conferences organized by: \n\nMalaysian Institute Of Accountants\nThe Malaysian Institute of Chartered Secretaries & Administrators\nMalaysian Investor Relations Association Berhad\nInstitute of Internal Auditors\nMinority Shareholders Watchdog Group\nMalaysian Institute of Certified Public Accountants\nMalaysian Institute of Corporate Governance\nAssociation of Chartered Certified Accountants\n\n\n
URL:https://hayat10.my/bursatra/event/changing-audit-committees-perspective-on-financial-reporting-internal-audit-assurance-challenges
CATEGORIES:Strategic Management and Best Practices
ORGANIZER;CN="Bursatra":MAILTO:mailmarshal@bursatra.com.my
END:VEVENT
END:VCALENDAR