BEGIN:VCALENDAR
VERSION:2.0
PRODID:-//Bursatra - ECPv4.5.12.3//NONSGML v1.0//EN
CALSCALE:GREGORIAN
METHOD:PUBLISH
X-WR-CALNAME:Bursatra
X-ORIGINAL-URL:https://hayat10.my/bursatra
X-WR-CALDESC:Events for Bursatra
BEGIN:VEVENT
DTSTART;TZID=Asia/Kuala_Lumpur:20170704T090000
DTEND;TZID=Asia/Kuala_Lumpur:20170704T130000
DTSTAMP:20260421T170506
CREATED:20170622T220008Z
LAST-MODIFIED:20170528T180952Z
UID:2918-1499158800-1499173200@hayat10.my
SUMMARY:Changes Affecting Directors Under The Companies Act 2016: What Every Directors Needs To Know
DESCRIPTION: \nThe Companies Act 2016 outlines the duties and responsibilities of directors.  Contraventions of the provisions result in severe sanctions\, often up to a fine not exceeding three million ringgit or to imprisonment for a term not exceeding five years or to both. The changes made by the Companies Act 2016 and its implications in relation to the directors duties and responsibilities  will also be discussed. Apart from the changes\, the session will also reinforce the general duties and responsibilities of directors under the Companies Acts. \n4 CEP Hours\nFee is inclusive of 6% GST.\n\n\nPresenter's Profile\n\n\nMR. DEVANESAN EVANSON \nDevanesan is a qualified accountant (FCCA) who is also a Chartered Member of the Malaysian Institute of Accountants. He also holds a law degree (LLB Hons) from the University of London. He is a fellow member of the Institute of Internal Auditors Malaysia (FIIA). \nDevanesan was appointed to the Board of AKPK (Agensi Kaunseling dan Pengurusan Kredit) as an independent director and chairman of the audit committee in 2017. AKPK is an agency under the auspices of Bank Negara which provides Credit Counselling and Debt Management for customers of financial institutions. \nHe is also the past President of the ACCA Advisory Committee\, the past-President of the Institute of Internal Auditors Malaysia and a past-Council Member of the Malaysia Institute of Accountants. \nDevanesan retired from Bursa Malaysia in 2010 after serving Bursa Malaysia for eighteen years (1992 – 2010). He started his career at Bursa Malaysia as Head of Internal Audit and Risk Management. He was also\, at one time\, the Chief Regulatory Officer and later\, the Chief Market Operations Officer of Bursa Malaysia. \nHe is also the past President of the ACCA Advisory Committee\, the past-President of the Institute of Internal Auditors Malaysia and a past-Council Member of the Malaysia Institute of Accountants. \nCurrently\, Devanesan is a trainer/facilitator in the areas of corporate governance\, risks\, controls\, Listing Requirements\, boardroom performance\, ethics and other governance and capital market subjects. \n\n\n\n\n \nRecurring Dates - 2017: 01 August | 05 September\nDownload Brochure  Changes Affecting Directors Under The Companies Act 2016: What Every Directors Needs To KnowFile size: 570 KB 
URL:https://hayat10.my/bursatra/event/changes-affecting-directors-under-the-companies-act-2016-what-every-directors-needs-to-know-2
LOCATION:Kuala Lumpur\, Malaysia
CATEGORIES:Changes Affecting Directors Under The Companies Act 2016: What Every Directors Needs To Know,Corporate Governance Management and Best Practices
ORGANIZER;CN="BURSATRA":MAILTO:bursatra5@gmail.com
END:VEVENT
END:VCALENDAR