BEGIN:VCALENDAR
VERSION:2.0
PRODID:-//Bursatra - ECPv4.5.12.3//NONSGML v1.0//EN
CALSCALE:GREGORIAN
METHOD:PUBLISH
X-WR-CALNAME:Bursatra
X-ORIGINAL-URL:https://hayat10.my/bursatra
X-WR-CALDESC:Events for Bursatra
BEGIN:VEVENT
DTSTART;TZID=Asia/Kuala_Lumpur:20180521T090000
DTEND;TZID=Asia/Kuala_Lumpur:20180521T130000
DTSTAMP:20260421T134901
CREATED:20180405T220038Z
LAST-MODIFIED:20171227T185632Z
UID:3522-1526893200-1526907600@hayat10.my
SUMMARY:Board Evaluation & Board Effectiveness Assessment – The Untold Story
DESCRIPTION:\nThe Annual Report is a comprehensive shareholders communication document\, disclosing essential governance and risk management processes to facilitate shareholders and potential investors to make the correct investment decision. Over the years\, salient disclosures are getting more complex and integrated to improve on its communicative value to all users of Annual Reports\, like Corporate Governance Compliance Report\, Management Discussion and Analysis and now the Sustainability Report. Enhanced disclosure of non-financial information like senior management remuneration\, diversity in workforce from gender classification\, management grading\, qualification band\, race mix and age group is also now best practice requirement. \n4 CEP Hours\nFee is inclusive of 6% GST.\n\n\nPresenter's Profile\n\n\nMR. BOEY TAK KONGCA (M)\, FCCA\, ACIS\, MIMM\, MMIM \nHe is an approved professional trainer since 2007 with Pembangunan Sumber Manusia Berhad (“HRDF”) and has 23 years of broad based senior management experience in internal audit\, financial management\, corporate affairs and global business development with 6 listed entities with listing in United Kingdom\, Singapore\, Malaysia\, Australia and New Zealand. \nPresently\, he holds directorship in Dutch Lady Milk Industries Bhd\, Green Packet Berhad\, Gadang Holdings Bhd\, Censof Holdings Bhd and Ho Hup Construction Company Bhd. \nPreviously\, he held directorships in IJM Land Berhad\, Sanbumi Holdings Berhad\, Omesti Berhad and Permaju Industries Berhad. \nIn the last 19 years\, he had conducted and participated in seminars and conferences organized by: \n\nMalaysian Institute Of Accountants\nThe Malaysian Institute of Chartered Secretaries & Administrators\nMalaysian Investor Relations Association Berhad\nInstitute of Internal Auditors\nMinority Shareholders Watchdog Group\nMalaysian Institute of Certified Public Accountants\nMalaysian Institute of Corporate Governance\nAssociation of Chartered Certified Accountants\n\n\n\n\n\n \nRecurring Date 2018: 12 June.\nDownload Brochure  Board Evaluation & Board Effectiveness Assessment – The Untold StoryFile size: 199 KB 
URL:https://hayat10.my/bursatra/event/board-evaluation-board-effectiveness-assessment-the-untold-story-2-2
LOCATION:Kuala Lumpur\, Malaysia
CATEGORIES:Board Evaluation & Board Effectiveness Assessment – The Untold Story,Corporate Governance Management and Best Practices
ORGANIZER;CN="BURSATRA":MAILTO:bursatra5@gmail.com
END:VEVENT
END:VCALENDAR