BEGIN:VCALENDAR
VERSION:2.0
PRODID:-//Bursatra - ECPv4.5.12.3//NONSGML v1.0//EN
CALSCALE:GREGORIAN
METHOD:PUBLISH
X-WR-CALNAME:Bursatra
X-ORIGINAL-URL:https://hayat10.my/bursatra
X-WR-CALDESC:Events for Bursatra
BEGIN:VEVENT
DTSTART;TZID=Asia/Kuala_Lumpur:20180413T090000
DTEND;TZID=Asia/Kuala_Lumpur:20180413T130000
DTSTAMP:20260421T151711
CREATED:20180321T220051Z
LAST-MODIFIED:20171227T180454Z
UID:3507-1523610000-1523624400@hayat10.my
SUMMARY:Board Committees – Disclosure Framework & Key Activities
DESCRIPTION:Good corporate governance framework under the MCCG 2017 intended outcomes require more comprehensive disclosure of best practices and its processes implemented. Moving forward with the new disclosure obligations and compliance requirements\, proper Board Committees’ meeting minutes must be kept with relevant supporting documents prepared. Accordingly\, with the risk management function now mandated as a Board matter\, prudent understanding of risk management processes is now essential for all Board members moving forward. This requires the Board Committees to stay focus on its role and functions for effective Board support in terms of measurable results. \n4 CEP Hours\nFee is inclusive of 6% GST.\n\n\nPresenter's Profile\n\n\nMR. BOEY TAK KONGCA (M)\, FCCA\, ACIS\, MIMM\, MMIM \nHe is an approved professional trainer since 2007 with Pembangunan Sumber Manusia Berhad (“HRDF”) and has 23 years of broad based senior management experience in internal audit\, financial management\, corporate affairs and global business development with 6 listed entities with listing in United Kingdom\, Singapore\, Malaysia\, Australia and New Zealand. \nPresently\, he holds directorship in Dutch Lady Milk Industries Bhd\, Green Packet Berhad\, Gadang Holdings Bhd\, Censof Holdings Bhd and Ho Hup Construction Company Bhd. \nPreviously\, he held directorships in IJM Land Berhad\, Sanbumi Holdings Berhad\, Omesti Berhad and Permaju Industries Berhad. \nIn the last 19 years\, he had conducted and participated in seminars and conferences organized by: \n\nMalaysian Institute Of Accountants\nThe Malaysian Institute of Chartered Secretaries & Administrators\nMalaysian Investor Relations Association Berhad\nInstitute of Internal Auditors\nMinority Shareholders Watchdog Group\nMalaysian Institute of Certified Public Accountants\nMalaysian Institute of Corporate Governance\nAssociation of Chartered Certified Accountants\n\n\n\n\n\n \nRecurring Date 2018: 24 May | 18 June.\nDownload Brochure  Board Committees – Disclosure Framework & Key ActivitiesFile size: 204 KB 
URL:https://hayat10.my/bursatra/event/board-committees-disclosure-framework-key-activities-2
LOCATION:Kuala Lumpur\, Malaysia
CATEGORIES:Board Committees – Disclosure Framework & Key Activities,Corporate Governance Management and Best Practices
ORGANIZER;CN="BURSATRA":MAILTO:bursatra5@gmail.com
END:VEVENT
END:VCALENDAR