BEGIN:VCALENDAR
VERSION:2.0
PRODID:-//Bursatra - ECPv4.5.12.3//NONSGML v1.0//EN
CALSCALE:GREGORIAN
METHOD:PUBLISH
X-WR-CALNAME:Bursatra
X-ORIGINAL-URL:https://hayat10.my/bursatra
X-WR-CALDESC:Events for Bursatra
BEGIN:VEVENT
DTSTART;TZID=Asia/Kuala_Lumpur:20160510T090000
DTEND;TZID=Asia/Kuala_Lumpur:20160510T130000
DTSTAMP:20260421T201557
CREATED:20160204T200736Z
LAST-MODIFIED:20160204T202328Z
UID:1599-1462870800-1462885200@hayat10.my
SUMMARY:Best Practices For Sustainability Reporting – What A Company Director Needs To Know
DESCRIPTION:The Sustainability Report is an important shareholders communication document and a vital information kit to outline governance assurance standards\, business strategies for sustainable growth\, capital funding requirements\, dividend goals\, key risks and mitigation efforts\, talent development initiatives\, social commitment to the community and the product safety for consumption and the environment. \nEffective 31 December 2015\, listed entities with market capitalization above RM 2.0 billion need to demonstrate its Sustainability Plan in the format of A Sustainability Report\, which is mandatory under the Listing Requirements of Bursa Malaysia Securities Berhad [paragraph 9.45(2) and paragraph (29)\, Part A of Appendix 9C of the Main Market Listing Requirements (supplemented by Practice Note 9) and paragraph (30) of Appendix 9C of the ACE Market Listing Requirements (supplemented by Guidance Note 11)]. Once the threshold of RM2.0 billion market capitalization is recorded on 31 December 2015\, the requirement to comply with this listing rule must be adhered thereafter\, even if the market capitalization subsequently drop below RM2.0 billion\, in subsequent financial years. \n4 CEP Hours\nFee is inclusive of 6% GST.\n\n\nPresenter's Profile\n\n\nMR. BOEY TAK KONGCA (M)\, FCCA\, ACIS\, MIMM\, MMIM \nHe is an approved professional trainer since 2007 with Pembangunan Sumber Manusia Berhad (“HRDF”) and has 23 years of broad based senior management experience in internal audit\, financial management\, corporate affairs and global business development with 6 listed entities with listing in United Kingdom\, Singapore\, Malaysia\, Australia and New Zealand. \nPresently\, he holds directorship in Dutch Lady Milk Industries Bhd\, Green Packet Berhad\, Gadang Holdings Bhd\, Censof Holdings Bhd and Ho Hup Construction Company Bhd. \nPreviously\, he held directorships in IJM Land Berhad\, Sanbumi Holdings Berhad\, Omesti Berhad and Permaju Industries Berhad. \nIn the last 19 years\, he had conducted and participated in seminars and conferences organized by: \n\nMalaysian Institute Of Accountants\nThe Malaysian Institute of Chartered Secretaries & Administrators\nMalaysian Investor Relations Association Berhad\nInstitute of Internal Auditors\nMinority Shareholders Watchdog Group\nMalaysian Institute of Certified Public Accountants\nMalaysian Institute of Corporate Governance\nAssociation of Chartered Certified Accountants\n\n\n\n\n\nDownload Brochure  Best Practices For Sustainability Reporting – What A Company Director Needs To KnowFile size: 258 KB 
URL:https://hayat10.my/bursatra/event/best-practices-for-sustainability-reporting-what-a-company-director-needs-to-know-3
CATEGORIES:Corporate Governance Management and Best Practices
ORGANIZER;CN="Bursatra":MAILTO:mailmarshal@bursatra.com.my
END:VEVENT
END:VCALENDAR