BEGIN:VCALENDAR
VERSION:2.0
PRODID:-//Bursatra - ECPv4.5.12.3//NONSGML v1.0//EN
CALSCALE:GREGORIAN
METHOD:PUBLISH
X-WR-CALNAME:Bursatra
X-ORIGINAL-URL:https://hayat10.my/bursatra
X-WR-CALDESC:Events for Bursatra
BEGIN:VEVENT
DTSTART;TZID=Asia/Kuala_Lumpur:20160609T090000
DTEND;TZID=Asia/Kuala_Lumpur:20160609T130000
DTSTAMP:20260421T171138
CREATED:20160125T142531Z
LAST-MODIFIED:20160125T142531Z
UID:1495-1465462800-1465477200@hayat10.my
SUMMARY:Audit Committee’s Oversight Role In Strengthening The Assurance Process - A Necessity\, No Longer An Option
DESCRIPTION:With the fast changing business landscape and the uncertain economic outlook\, Audit Committee role has further intensified to provide the Board with an independent oversight assurance function to overcome the present challenging times. The Audit Committee priorities are generally affected by frequent regulatory changes and listing requirements amendments that are market driven. \n4 CEP Hours\nFee is inclusive of 6% GST.\n\n\nPresenter's Profile\n\n\nMR. BOEY TAK KONGCA (M)\, FCCA\, ACIS\, MIMM\, MMIM \nHe is an approved professional trainer since 2007 with Pembangunan Sumber Manusia Berhad (“HRDF”) and has 23 years of broad based senior management experience in internal audit\, financial management\, corporate affairs and global business development with 6 listed entities with listing in United Kingdom\, Singapore\, Malaysia\, Australia and New Zealand. \nPresently\, he holds directorship in Dutch Lady Milk Industries Bhd\, Green Packet Berhad\, Gadang Holdings Bhd\, Censof Holdings Bhd and Ho Hup Construction Company Bhd. \nPreviously\, he held directorships in IJM Land Berhad\, Sanbumi Holdings Berhad\, Omesti Berhad and Permaju Industries Berhad. \nIn the last 19 years\, he had conducted and participated in seminars and conferences organized by: \n\nMalaysian Institute Of Accountants\nThe Malaysian Institute of Chartered Secretaries & Administrators\nMalaysian Investor Relations Association Berhad\nInstitute of Internal Auditors\nMinority Shareholders Watchdog Group\nMalaysian Institute of Certified Public Accountants\nMalaysian Institute of Corporate Governance\nAssociation of Chartered Certified Accountants\n\n\n\n\n\nDownload Brochure  Audit Committee' s Oversight Role In Strengthening The Assurance Process - A Necessity\, No Longer An OptionFile size: 212 KB 
URL:https://hayat10.my/bursatra/event/audit-committees-oversight-role-in-strengthening-the-assurance-process-a-necessity-no-longer-an-option-2
CATEGORIES:Corporate Governance Management and Best Practices
ORGANIZER;CN="Bursatra":MAILTO:mailmarshal@bursatra.com.my
END:VEVENT
END:VCALENDAR