BEGIN:VCALENDAR
VERSION:2.0
PRODID:-//Bursatra - ECPv4.5.12.3//NONSGML v1.0//EN
CALSCALE:GREGORIAN
METHOD:PUBLISH
X-WR-CALNAME:Bursatra
X-ORIGINAL-URL:https://hayat10.my/bursatra
X-WR-CALDESC:Events for Bursatra
BEGIN:VEVENT
DTSTART;TZID=Asia/Kuala_Lumpur:20151217T090000
DTEND;TZID=Asia/Kuala_Lumpur:20151217T130000
DTSTAMP:20260421T130722
CREATED:20141225T114959Z
LAST-MODIFIED:20151023T174955Z
UID:190-1450342800-1450357200@hayat10.my
SUMMARY:Audit Committees - Increased Expectations
DESCRIPTION:Audit Committees are required to peruse all quarterly reports and annual audited accounts before they are recommended to the Board for public dissemination. They are also required to recommend to the board on all matters of conflicts of interest and related party transactions. Much power is given to audit committees and much is expected of them. Audit committees also deal with the external auditors and the internal auditors - two important cornerstones of corporate governance. \n4 CEP Hours\nFee is inclusive of 6% GST.\n\n
URL:https://hayat10.my/bursatra/event/audit-committees-increased-expectations-3
LOCATION:Kuala Lumpur\, Malaysia
CATEGORIES:Corporate Governance Management and Best Practices
ATTACH;FMTTYPE=image/jpeg:https://hayat10.my/bursatra/wp-content/uploads/2015/05/audit-committee-650x250.jpg
ORGANIZER;CN="Bursatra":MAILTO:mailmarshal@bursatra.com.my
END:VEVENT
END:VCALENDAR