BEGIN:VCALENDAR
VERSION:2.0
PRODID:-//Bursatra - ECPv4.5.12.3//NONSGML v1.0//EN
CALSCALE:GREGORIAN
METHOD:PUBLISH
X-WR-CALNAME:Bursatra
X-ORIGINAL-URL:https://hayat10.my/bursatra
X-WR-CALDESC:Events for Bursatra
BEGIN:VEVENT
DTSTART;TZID=Asia/Kuala_Lumpur:20171107T090000
DTEND;TZID=Asia/Kuala_Lumpur:20171107T130000
DTSTAMP:20260421T130121
CREATED:20170907T220025Z
LAST-MODIFIED:20170926T174521Z
UID:3071-1510045200-1510059600@hayat10.my
SUMMARY:Are We Heading For Another Global Recession Or Do We Care?
DESCRIPTION:Less than a decade ago\, the world economy sank into the Great Recession: the deepest and most widespread downturn since the Great Depression of the 1920s and '30s. Since the stock market crashed in 2008\, recovery has been long and slow\, marked by persistent bumps in the road along the way. \nNonetheless\, an economic recovery has\, indeed\, taken place. The S&P 500 index rose more than 92% over the past five years until market volatility kicked in during the second half of 2015. So far in 2016\, the S&P 500 is down almost 9% since the start of 2016. U.S. unemployment has dropped from nearly 10% at the height of the Great Recession to 4.9% today. \n4 CEP Hours\nFee is inclusive of 6% GST.\n\n\nSpeaker's Profile\n\n\nMR. A. AZMI BIN ABD KHALID \nMr. A. Azmi Khalid is a consultant at Asia e University and a lecturer in the Master of Public Policy (MPP) program\, International Institute of Public Policy and Management (INPUMA)\, University of Malaya. He started his career at the University of Malaya in 1977 as a tutor\, after obtaining the BA (Honours\, Second Class Upper) majoring in International Relations. Later he became a lecturer and senior lecturer. He was trained in Economic History (MA Honours) in the Faculty of Economics\, University of Sydney (1978-80). He was a Visiting Lecturer at Universiti Brunei Darussalam. In 1984-86\, he was at the London School of Economics. He was in the corporate sector\, holding various senior management positions\, from 1995. He is currently advising an energy-based company. \nCurrently\, he is registering for the PhD degree at the University of Malaya. His main areas of interest are: Global Depressions and Recessions\, State/Government Intervention in The Economy\, Strategic Management and Leadership\, Business History and Business Failure Analysis\, Political Risk Analysis\, Emerging Markets and Business and Digital Disruption. \n\n\n\n\n\nDownload Brochure  Are We Heading for Another Global Recession or Do We Care?File size: 163 KB 
URL:https://hayat10.my/bursatra/event/are-we-heading-for-another-global-recession-or-do-we-care-3
LOCATION:Kuala Lumpur\, Malaysia
CATEGORIES:Are We Heading For Another Global Recession Or Do We Care?,Effective Operational and Risk Management
ORGANIZER;CN="Bursatra-Sophiah":MAILTO:sophiah@bursatra.com.my
END:VEVENT
END:VCALENDAR