BEGIN:VCALENDAR
VERSION:2.0
PRODID:-//Bursatra - ECPv4.5.12.3//NONSGML v1.0//EN
CALSCALE:GREGORIAN
METHOD:PUBLISH
X-WR-CALNAME:Bursatra
X-ORIGINAL-URL:https://hayat10.my/bursatra
X-WR-CALDESC:Events for Bursatra
BEGIN:VEVENT
DTSTART;TZID=Asia/Kuala_Lumpur:20161215T090000
DTEND;TZID=Asia/Kuala_Lumpur:20161215T123000
DTSTAMP:20260421T183739
CREATED:20161017T183126Z
LAST-MODIFIED:20161121T155227Z
UID:2208-1481792400-1481805000@hayat10.my
SUMMARY:Amendments To Bursa Malaysia's Listing Requirements - With Latest Cases On Directors Duties
DESCRIPTION:Bursa Malaysia Chief Executive Officer Datuk Seri Tajuddin Atan said the capital market was a dynamic environment where the rules were constantly updated to ensure their continued relevance and effectiveness. In this regard\, the exchange has found that enhanced disclosures and corporate governance requirements are necessary to meet the growing needs of increasingly sophisticated investors. \nIn a move to empower shareholders with better quality information in annual reports for informed investment decisions\, and to strengthen the voting process\, Bursa Malaysia announced a number of amendments to the listing rules. \nKey amendments include introducing making greater non-financial information disclosures mandatory and mandating poll voting for all resolutions in company annual general meetings (AGMs). The requirement for greater non-financial information disclosure will see the introduction of minimum contents for management discussion and analysis (MD&A) in a bid to improve the quality and depth of disclosures made. \nAnother amendment is the requirement for immediate and periodic disclosures on key audit matters and matters related to going concern and the strengthening of the role of the audit committee in reviewing financial statements. \n4 CEP Hours\nFee is exclusive of 6% GST.\n\n\nPresenter's Profile\n\n\nMR. DEVANESAN EVANSON \nDevanesan is a qualified accountant (FCCA) who is also a Chartered Member of the Malaysian Institute of Accountants. He also holds a law degree (LLB Hons) from the University of London. He is a fellow member of the Institute of Internal Auditors Malaysia (FIIA). \nDevanesan was appointed to the Board of AKPK (Agensi Kaunseling dan Pengurusan Kredit) as an independent director and chairman of the audit committee in 2017. AKPK is an agency under the auspices of Bank Negara which provides Credit Counselling and Debt Management for customers of financial institutions. \nHe is also the past President of the ACCA Advisory Committee\, the past-President of the Institute of Internal Auditors Malaysia and a past-Council Member of the Malaysia Institute of Accountants. \nDevanesan retired from Bursa Malaysia in 2010 after serving Bursa Malaysia for eighteen years (1992 – 2010). He started his career at Bursa Malaysia as Head of Internal Audit and Risk Management. He was also\, at one time\, the Chief Regulatory Officer and later\, the Chief Market Operations Officer of Bursa Malaysia. \nHe is also the past President of the ACCA Advisory Committee\, the past-President of the Institute of Internal Auditors Malaysia and a past-Council Member of the Malaysia Institute of Accountants. \nCurrently\, Devanesan is a trainer/facilitator in the areas of corporate governance\, risks\, controls\, Listing Requirements\, boardroom performance\, ethics and other governance and capital market subjects. \n\n\n\n\nDownload Brochure  Amendments To Bursa Malaysia's Listing Requirements - With Latest Cases On Directors DutiesFile size: 2 MB 
URL:https://hayat10.my/bursatra/event/amendments-to-bursa-malaysias-listing-requirements-with-latest-cases-on-directors-duties
LOCATION:Petaling Jaya\, Malaysia
ORGANIZER;CN="BURSATRA":MAILTO:bursatra5@gmail.com
END:VEVENT
END:VCALENDAR