BEGIN:VCALENDAR
VERSION:2.0
PRODID:-//Bursatra - ECPv4.5.12.3//NONSGML v1.0//EN
CALSCALE:GREGORIAN
METHOD:PUBLISH
X-WR-CALNAME:Bursatra
X-ORIGINAL-URL:https://hayat10.my/bursatra
X-WR-CALDESC:Events for Bursatra
BEGIN:VEVENT
DTSTART;TZID=Asia/Kuala_Lumpur:20150915T090000
DTEND;TZID=Asia/Kuala_Lumpur:20150915T130000
DTSTAMP:20260421T100150
CREATED:20150613T100912Z
LAST-MODIFIED:20150630T155719Z
UID:1024-1442307600-1442322000@hayat10.my
SUMMARY:Aligning Organization’s Strategic Plan By Energizing People For Performance In Uncertain Times
DESCRIPTION:In a declining market due to low consumer’s confidence\, organization must restructure and improve on its ability to compete more effectively in order to retain market share. This course provides practical insights into how organization can re-energize its workforce for better performance. \n\n
URL:https://hayat10.my/bursatra/event/aligning-organizations-strategic-plan-by-energizing-people-for-performance-in-uncertain-times-3
CATEGORIES:Strategic Management and Best Practices
ORGANIZER;CN="Bursatra":MAILTO:mailmarshal@bursatra.com.my
END:VEVENT
END:VCALENDAR