BEGIN:VCALENDAR
VERSION:2.0
PRODID:-//Bursatra - ECPv4.5.12.3//NONSGML v1.0//EN
CALSCALE:GREGORIAN
METHOD:PUBLISH
X-WR-CALNAME:Bursatra
X-ORIGINAL-URL:https://hayat10.my/bursatra
X-WR-CALDESC:Events for Bursatra
BEGIN:VEVENT
DTSTART;TZID=Asia/Kuala_Lumpur:20161114T090000
DTEND;TZID=Asia/Kuala_Lumpur:20161114T170000
DTSTAMP:20260418T173157
CREATED:20160616T173602Z
LAST-MODIFIED:20160616T182139Z
UID:1588-1479114000-1479142800@hayat10.my
SUMMARY:Adaptive Strategies to Gain Advantage During Tough Times
DESCRIPTION:The challenges facing business managers and entrepreneurs in their approach to strategic planning\, strategic adaptation and decision making in complex and fast paced change environments.  Managers today are all obsessed with VUCA\, an ugly acronym encapsulating the notion that business faces more volatility\, uncertainty\, complexity\, and ambiguity than ever before\, requiring an entirely new kind of approach to strategy.  \n8 CEP Hours\nFee is inclusive of 6% GST.\n\n\nPresenter's Profile\n\nDr. Damien Lim\, who has been Independent Non-Executive Director of EG Industries Bhd. since 2009\, is a Chartered Accountant and a Certified Public Accountant\, Masters in International Logistics Management\, and a MBA in ICT.  He is also an International Registered Certified Auditor (IRCA) for ISO\, EN and HACCP standards and has planned and implemented ISO QMS and EMS systems from foundation\, documentation to designing custom internal controls. \nHe has served as the management representative and is a certified lead auditor and is well versed in implementing and training ISO based EMS and QMS requirements as well as HACCP and OSHA for service\, manufacturing\, food and beverage\, pharmaceutical\, cosmetics and medical\, biotechnology industries.  He is also an accomplished and experienced forensics and fraud investigations consultant specializing in fraud and dispute settlements.  He is a Certified Fraud Examiner and a member of the Association of Certified Fraud Examiners and is a certified forensics accountant and investigator. \nAs a Senior Accountant in a multinational company\, Damien was responsible for the overall implementation of the company’s new accounting system and MRP system and he has a MBA in ICT and is familiar with Business Intelligence Systems.  He performed internal operational audits on all other departments and production areas and was responsible for the overall financial health of the company compliance\, public relations\, accounting and taxation matters. \nExtensive experience in various diverse industries such as oil & gas\, shipping\, property development\, retail & hypermarket\, plantations & mills\, investment holding\, hospitality\, casino\, finance & leasing\, heavy engineering & fabrication\, food & beverage\, mining\, electronics\, various manufacturing and recreational clubs through considerable involvement during the statutory auditing\, due diligence and consulting process of these public listed\, private or government linked organizations offers varied  viewpoints of strategies that work\, a unique perception on critical  matters an and an insight into many common misconceptions and thus mistakes that are made by management. \n\n\n\n\nDownload Brochure  Adaptive Strategies to Gain Advantage During Tough TimesFile size: 757 KB 
URL:https://hayat10.my/bursatra/event/adaptive-strategies-to-gain-advantage-during-tough-times
LOCATION:Petaling Jaya\, Malaysia
CATEGORIES:Corporate Governance Management and Best Practices
ORGANIZER;CN="Bursatra":MAILTO:mailmarshal@bursatra.com.my
END:VEVENT
END:VCALENDAR