BEGIN:VCALENDAR
VERSION:2.0
PRODID:-//Bursatra - ECPv4.5.12.3//NONSGML v1.0//EN
CALSCALE:GREGORIAN
METHOD:PUBLISH
X-WR-CALNAME:Bursatra
X-ORIGINAL-URL:https://hayat10.my/bursatra
X-WR-CALDESC:Events for Bursatra
BEGIN:VEVENT
DTSTART;TZID=Asia/Kuala_Lumpur:20160926T090000
DTEND;TZID=Asia/Kuala_Lumpur:20160926T170000
DTSTAMP:20260421T214439
CREATED:20160607T172143Z
LAST-MODIFIED:20160615T200130Z
UID:1481-1474880400-1474909200@hayat10.my
SUMMARY:A Director’s Perspective On Integrated Reporting
DESCRIPTION:The publication of sustainability (SR) or integrated reports (IR) has become commonplace among larger and smaller companies and many other organisations.  Having the sustainability information in these reports assured by an external assurer is not yet as widely applied and is still developing.  This workshop offers practical training on how your organisation can take the first steps to complete your own integrated report. \n8 CEP Hours\nFee is inclusive of 6% GST.\n\n\nPresenter's Profile\n\nDr. Damien Lim\, who has been Independent Non-Executive Director of EG Industries Bhd. since 2009\, is a Chartered Accountant and a Certified Public Accountant\, Masters in International Logistics Management\, and a MBA in ICT.  He is also an International Registered Certified Auditor (IRCA) for ISO\, EN and HACCP standards and has planned and implemented ISO QMS and EMS systems from foundation\, documentation to designing custom internal controls. \nHe has served as the management representative and is a certified lead auditor and is well versed in implementing and training ISO based EMS and QMS requirements as well as HACCP and OSHA for service\, manufacturing\, food and beverage\, pharmaceutical\, cosmetics and medical\, biotechnology industries.  He is also an accomplished and experienced forensics and fraud investigations consultant specializing in fraud and dispute settlements.  He is a Certified Fraud Examiner and a member of the Association of Certified Fraud Examiners and is a certified forensics accountant and investigator. \nAs a Senior Accountant in a multinational company\, Damien was responsible for the overall implementation of the company’s new accounting system and MRP system and he has a MBA in ICT and is familiar with Business Intelligence Systems.  He performed internal operational audits on all other departments and production areas and was responsible for the overall financial health of the company compliance\, public relations\, accounting and taxation matters. \nExtensive experience in various diverse industries such as oil & gas\, shipping\, property development\, retail & hypermarket\, plantations & mills\, investment holding\, hospitality\, casino\, finance & leasing\, heavy engineering & fabrication\, food & beverage\, mining\, electronics\, various manufacturing and recreational clubs through considerable involvement during the statutory auditing\, due diligence and consulting process of these public listed\, private or government linked organizations offers varied  viewpoints of strategies that work\, a unique perception on critical  matters an and an insight into many common misconceptions and thus mistakes that are made by management. \n\n\n\n\nDownload Brochure  A Director’s Perspective On Integrated ReportingFile size: 760 KB 
URL:https://hayat10.my/bursatra/event/a-directors-perspective-on-integrated-reporting
CATEGORIES:Corporate Governance Management and Best Practices
ORGANIZER;CN="Bursatra":MAILTO:mailmarshal@bursatra.com.my
END:VEVENT
END:VCALENDAR